Workbook

Sheet Kniha jízd
C2: KNIHA JÍZD | G2: Kombinovaná spotřeba paliva: | K2: 5.36
G3: Druh PHM: | K3: benzin
G4: Průměrná cena benzínu dle vyhlášky | K4: 39.2
C6: Jméno řidiče: | D6: Jitka Macháčková | H6: Náhrada za použití soukr.vozidla na 1 km: | K6: 6.8
C7: Bydliště | D7: Dolní Čermá 158 | H7: Náhrada za PHM na 1 km: | K7: =ROUND(K2*K4/100,2) -> 2.1
C8: Typ vozidla: | D8: osobní Renault Mistral | H8: Celková průměrná náhrada za 1 km: | K8: =K6+K7 -> 8.9
C9: SPZ: | D9: 1E8 7881
B11: DATUM | C11: ODKUD | D11: KAM | E11: ČAS ODJEZDU | F11: ČAS PŘÍJEZDU | G11: ÚČEL JÍZDY | H11: STAV TACHOMETRU | J11: UJETO | K11: NÁHRADA
H12: POČÁTEČNÍ | I12: KONEČNÝ
B13: 41044 | C13: Letohrad | D13: Pardubice | E13: 0.33333333 | F13: 0.36458333 | G13: Jednání | H13: 135021 | I13: =IF(ISBLANK(J13),"",H13+J13) -> 135088 | J13: 67 | K13: =IF(ISBLANK(J13),"",$K$8*J13) -> 596.3
B14: =B13 -> 41044 | C14: Pardubice | D14: Letohrad | E14: 0.71875 | F14: 0.75 | G14: Jednání | H14: =IF(ISBLANK(J14),"",IF(ISBLANK(I13),"",I13)) -> 135088 | I14: =IF(ISBLANK(J14),"",H14+J14) -> 135155 | J14: 67 | K14: =IF(ISBLANK(J14),"",$K$8*J14) -> 596.3
B15: 41045 | C15: Letohrad | D15: Svitavy | E15: 0.64583333 | F15: 0.6875 | G15: Návštěva | H15: =IF(ISBLANK(J15),"",IF(ISBLANK(I14),"",I14)) -> 135155 | I15: =IF(ISBLANK(J15),"",H15+J15) -> 135213 | J15: 58 | K15: =IF(ISBLANK(J15),"",$K$8*J15) -> 516.2
B16: =B15 -> 41045 | C16: Svitavy | D16: Letohrad | E16: 0.77083333 | F16: 0.8125 | G16: Návštěva | H16: =IF(ISBLANK(J16),"",IF(ISBLANK(I15),"",I15)) -> 135213 | I16: =IF(ISBLANK(J16),"",H16+J16) -> 135271 | J16: 58 | K16: =IF(ISBLANK(J16),"",$K$8*J16) -> 516.2
I17: =IF(ISBLANK(J17),"",H17+J17) | K17: =IF(ISBLANK(J17),"",$K$8*J17)
H18: =IF(ISBLANK(J18),"",IF(ISBLANK(I17),"",I17)) | I18: =IF(ISBLANK(J18),"",H18+J18) | K18: =IF(ISBLANK(J18),"",$K$8*J18)
H19: =IF(ISBLANK(J19),"",IF(ISBLANK(I18),"",I18)) | I19: =IF(ISBLANK(J19),"",H19+J19) | K19: =IF(ISBLANK(J19),"",$K$8*J19)
H20: =IF(ISBLANK(J20),"",IF(ISBLANK(I19),"",I19)) | I20: =IF(ISBLANK(J20),"",H20+J20) | K20: =IF(ISBLANK(J20),"",$K$8*J20)
H21: =IF(ISBLANK(J21),"",IF(ISBLANK(I20),"",I20)) | I21: =IF(ISBLANK(J21),"",H21+J21) | K21: =IF(ISBLANK(J21),"",$K$8*J21)
H22: =IF(ISBLANK(J22),"",IF(ISBLANK(I21),"",I21)) | I22: =IF(ISBLANK(J22),"",H22+J22) | K22: =IF(ISBLANK(J22),"",$K$8*J22)
H23: =IF(ISBLANK(J23),"",IF(ISBLANK(I22),"",I22)) | I23: =IF(ISBLANK(J23),"",H23+J23) | K23: =IF(ISBLANK(J23),"",$K$8*J23)
H24: =IF(ISBLANK(J24),"",IF(ISBLANK(I23),"",I23)) | I24: =IF(ISBLANK(J24),"",H24+J24) | K24: =IF(ISBLANK(J24),"",$K$8*J24)
H25: =IF(ISBLANK(J25),"",IF(ISBLANK(I24),"",I24)) | I25: =IF(ISBLANK(J25),"",H25+J25) | K25: =IF(ISBLANK(J25),"",$K$8*J25)
H26: =IF(ISBLANK(J26),"",IF(ISBLANK(I25),"",I25)) | I26: =IF(ISBLANK(J26),"",H26+J26) | K26: =IF(ISBLANK(J26),"",$K$8*J26)
H27: =IF(ISBLANK(J27),"",IF(ISBLANK(I26),"",I26)) | I27: =IF(ISBLANK(J27),"",H27+J27) | K27: =IF(ISBLANK(J27),"",$K$8*J27)
H28: =IF(ISBLANK(J28),"",IF(ISBLANK(I27),"",I27)) | I28: =IF(ISBLANK(J28),"",H28+J28) | K28: =IF(ISBLANK(J28),"",$K$8*J28)
H29: =IF(ISBLANK(J29),"",IF(ISBLANK(I28),"",I28)) | I29: =IF(ISBLANK(J29),"",H29+J29) | K29: =IF(ISBLANK(J29),"",$K$8*J29)
... H54: =IF(ISBLANK(J54),"",IF(ISBLANK(I53),"",I53)) | I54: =IF(ISBLANK(J54),"",H54+J54) | K54: =IF(ISBLANK(J54),"",$K$8*J54)
I55: CELKEM: | J55: =SUM(J13:J54) -> 250 | K55: =SUM(K13:K54) -> 2225
B57: Dne: | C57: 41116 | G57: Podpis řidiče: | H57: Jitka Macháčková

Sheet Cestovní příkaz-strana 1
B3: ORGANIZACE | H3: Osobní číslo | J3: 12
B4: Letohradské soukromé gymnázium o.p.s. | H4: Útvar | J4: 11
B5: Václavské náměstí 1 | H5: Telefon, linka | J5: 465622249
B6: 1. Příjmení, jméno, titul
B7: ='Kniha jízd'!D6 -> Jitka Macháčková | H7: Normální pracovní doba
B8: 2. Bydliště | H8: od | I8: 7:00 | J8: do | K8: 15:30
B9: ='Kniha jízd'!D7 -> Dolní Čermá 158
B10: Počátek cesty (místo, datum, hodina) | E10: Místo jednání | G10: Účel a průběh cesty | I10: Konec cesty (místo, datum)
B11: Žamberk, 15.5.2006,16:00 | E11: Pardubice, Štrossova 239 | G11: Jednání s paní Perníkovou | I11: Žamberk, 15.5.2006
B12: Žamberk, 16.5.2006, 15:30 | E12: Svitavy, Učebna 5. května 13 | G12: Návštěva gymnázia Svitavy | I12: Žamberk, 16.5.2006
B13: 3. Spolucestující
B14: 4. Určený dopravní prostředek (u vlastního vozidla druh, obsah válců) | H14: =CONCATENATE("SPZ: ",'Kniha jízd'!D9,", prům.spotřeba: ",'Kniha jízd'!K2,"l/100km, ",'Kniha jízd'!K3) -> SPZ: 1E8 7881, prům.spotřeba: 5,36l/100km, benzin
B15: 5. Předpokládaná částka výdajů Kč
B16: 6. Povolená záloha Kč. | F16: vyplacená dne | I16: pokl. doklad číslo
G18: ='Kniha jízd'!B13 -> 41044
B19: Podpis pokladníka | G19: Datum a podpis pracovníka oprávněného k povolení cesty
B20: VYÚČTOVÁNÍ PRACOVNÍ CESTY
B21: 7. Zpráva o výsledku pracovní cesty byla podána dne
B22: Se způsobem provedení souhlasí: | G22: ='Kniha jízd'!C57 -> 41116
G23: Datum a podpis oprávněného pracovníka
B24: 8. VÝDAJOVÝ A PŘÍJMOVÝ DOKLAD číslo | G24: Účtovací předpis
G25: Má dáti | H25: Dal | I25: Částka | J25: Středisko | K25: Zakázka
B26: Účtovaná náhrada byla přezkoušena a upravena na
B27: Vyplacená záloha | D27: Kč | E27: 0
B28: Doplatek - Přeplatek | D28: Kč | E28: ='Cestovní příkaz-strana 2'!N95 -> 2294
B29: Slovy | G29: Poznámka o zaúčtování
J31: ='Kniha jízd'!C57 -> 41116
B33: Datum a podpis pracovníka, který upravil vyúčtování | E33: Datum a podpis pokladníka | G33: Datum a podpis příjemce(průkaz totožnosti) | J33: Schválil(datum, a podpis)

Sheet Cestovní příkaz-strana 2
B3: Datum | C3: Odjezd - příjezd 1) | F3: Použitý dopr. prostředek 2) | G3: Počet hodin ztráty času | H3: Vzdálenost v km 3) | I3: Počátek a konec pracovního výkonu (hodina) | J3: Jízdné a místní přeprava | K3: Stravné | L3: Nocležné | M3: Nutné vedlejší výdaje | N3: Celkem | O3: Upraveno
C5: Místo jednání podtrhněte
E7: v hod. | J7: Kč | K7: Kč | L7: Kč | M7: Kč | N7: Kč | O7: Kč
B8: 1 | C8: 2 | F8: 3 | G8: 4 | H8: 5 | I8: 6 | J8: 7 | K8: 8 | L8: 9 | M8: 10 | N8: 11 | O8: 12
B9: =IF(ISBLANK('Kniha jízd'!B13),"",'Kniha jízd'!B13) -> 41044 | C9: Odjezd | D9: =IF(ISBLANK('Kniha jízd'!C13),"",'Kniha jízd'!C13) -> Letohrad | E9: =IF(ISBLANK('Kniha jízd'!E13),"",'Kniha jízd'!E13) -> 0.33333333 | F9: =IF(ISBLANK('Kniha jízd'!B13),"",LEFT($F$107,3)) -> AUV | H9: =IF(ISBLANK('Kniha jízd'!J13),"",'Kniha jízd'!J13) -> 67 | J9: =IF(ISBLANK('Kniha jízd'!K13),"",'Kniha jízd'!K13) -> 596.3 | N9: =IF(SUM(J9:M10)>0,SUM(J9:M10),"") -> 596.3
C10: Příjezd | D10: =IF(ISBLANK('Kniha jízd'!D13),"",'Kniha jízd'!D13) -> Pardubice | E10: =IF(ISBLANK('Kniha jízd'!F13),"",'Kniha jízd'!F13) -> 0.36458333
B11: =IF(ISBLANK('Kniha jízd'!B14),"",'Kniha jízd'!B14) -> 41044 | C11: Odjezd | D11: =IF(ISBLANK('Kniha jízd'!C14),"",'Kniha jízd'!C14) -> Pardubice | E11: =IF(ISBLANK('Kniha jízd'!E14),"",'Kniha jízd'!E14) -> 0.71875 | F11: =IF(ISBLANK('Kniha jízd'!B14),"",LEFT($F$107,3)) -> AUV | H11: =IF(ISBLANK('Kniha jízd'!J14),"",'Kniha jízd'!J14) -> 67 | J11: =IF(ISBLANK('Kniha jízd'!K14),"",'Kniha jízd'!K14) -> 596.3 | K11: =IF(E9="","",IF(E12="","",IF(E12-E9<$C$108,"",IF(E12-E9<=$C$109,$F$108,$F$109)))) -> 69 | N11: =IF(SUM(J11:M12)>0,SUM(J11:M12),"") -> 665.3
C12: Příjezd | D12: =IF(ISBLANK('Kniha jízd'!D14),"",'Kniha jízd'!D14) -> Letohrad | E12: =IF(ISBLANK('Kniha jízd'!F14),"",'Kniha jízd'!F14) -> 0.75
B13: =IF(ISBLANK('Kniha jízd'!B15),"",'Kniha jízd'!B15) -> 41045 | C13: Odjezd | D13: =IF(ISBLANK('Kniha jízd'!C15),"",'Kniha jízd'!C15) -> Letohrad | E13: =IF(ISBLANK('Kniha jízd'!E15),"",'Kniha jízd'!E15) -> 0.64583333 | F13: =IF(ISBLANK('Kniha jízd'!B15),"",LEFT($F$107,3)) -> AUV | H13: =IF(ISBLANK('Kniha jízd'!J15),"",'Kniha jízd'!J15) -> 58 | J13: =IF(ISBLANK('Kniha jízd'!K15),"",'Kniha jízd'!K15) -> 516.2 | N13: =IF(SUM(J13:M14)>0,SUM(J13:M14),"") -> 516.2
C14: Příjezd | D14: =IF(ISBLANK('Kniha jízd'!D15),"",'Kniha jízd'!D15) -> Svitavy | E14: =IF(ISBLANK('Kniha jízd'!F15),"",'Kniha jízd'!F15) -> 0.6875
B15: =IF(ISBLANK('Kniha jízd'!B16),"",'Kniha jízd'!B16) -> 41045 | C15: Odjezd | D15: =IF(ISBLANK('Kniha jízd'!C16),"",'Kniha jízd'!C16) -> Svitavy | E15: =IF(ISBLANK('Kniha jízd'!E16),"",'Kniha jízd'!E16) -> 0.77083333 | F15: =IF(ISBLANK('Kniha jízd'!B16),"",LEFT($F$107,3)) -> AUV | H15: =IF(ISBLANK('Kniha jízd'!J16),"",'Kniha jízd'!J16) -> 58 | J15: =IF(ISBLANK('Kniha jízd'!K16),"",'Kniha jízd'!K16) -> 516.2 | K15: =IF(E13="","",IF(E16="","",IF(E16-E13<$C$108,"",IF(E16-E13<=$C$109,$F$108,$F$109)))) | N15: =IF(SUM(J15:M16)>0,SUM(J15:M16),"") -> 516.2
C16: Příjezd | D16: =IF(ISBLANK('Kniha jízd'!D16),"",'Kniha jízd'!D16) -> Letohrad | E16: =IF(ISBLANK('Kniha jízd'!F16),"",'Kniha jízd'!F16) -> 0.8125
B17: =IF(ISBLANK('Kniha jízd'!B17),"",'Kniha jízd'!B17) | C17: Odjezd | D17: =IF(ISBLANK('Kniha jízd'!C17),"",'Kniha jízd'!C17) | E17: =IF(ISBLANK('Kniha jízd'!E17),"",'Kniha jízd'!E17) | F17: =IF(ISBLANK('Kniha jízd'!B17),"",LEFT($F$107,3)) | H17: =IF(ISBLANK('Kniha jízd'!J17),"",'Kniha jízd'!J17) | J17: =IF(ISBLANK('Kniha jízd'!K17),"",'Kniha jízd'!K17) | N17: =IF(SUM(J17:M18)>0,SUM(J17:M18),"")
C18: Příjezd | D18: =IF(ISBLANK('Kniha jízd'!D17),"",'Kniha jízd'!D17) | E18: =IF(ISBLANK('Kniha jízd'!F17),"",'Kniha jízd'!F17)
B19: =IF(ISBLANK('Kniha jízd'!B18),"",'Kniha jízd'!B18) | C19: Odjezd | D19: =IF(ISBLANK('Kniha jízd'!C18),"",'Kniha jízd'!C18) | E19: =IF(ISBLANK('Kniha jízd'!E18),"",'Kniha jízd'!E18) | F19: =IF(ISBLANK('Kniha jízd'!B18),"",LEFT($F$107,3)) | H19: =IF(ISBLANK('Kniha jízd'!J18),"",'Kniha jízd'!J18) | J19: =IF(ISBLANK('Kniha jízd'!K18),"",'Kniha jízd'!K18) | K19: =IF(E17="","",IF(E20="","",IF(E20-E17<$C$108,"",IF(E20-E17<=$C$109,$F$108,$F$109)))) | N19: =IF(SUM(J19:M20)>0,SUM(J19:M20),"")
C20: Příjezd | D20: =IF(ISBLANK('Kniha jízd'!D18),"",'Kniha jízd'!D18) | E20: =IF(ISBLANK('Kniha jízd'!F18),"",'Kniha jízd'!F18)
B21: =IF(ISBLANK('Kniha jízd'!B19),"",'Kniha jízd'!B19) | C21: Odjezd | D21: =IF(ISBLANK('Kniha jízd'!C19),"",'Kniha jízd'!C19) | E21: =IF(ISBLANK('Kniha jízd'!E19),"",'Kniha jízd'!E19) | F21: =IF(ISBLANK('Kniha jízd'!B19),"",LEFT($F$107,3)) | H21: =IF(ISBLANK('Kniha jízd'!J19),"",'Kniha jízd'!J19) | J21: =IF(ISBLANK('Kniha jízd'!K19),"",'Kniha jízd'!K19) | N21: =IF(SUM(J21:M22)>0,SUM(J21:M22),"")
C22: Příjezd | D22: =IF(ISBLANK('Kniha jízd'!D19),"",'Kniha jízd'!D19) | E22: =IF(ISBLANK('Kniha jízd'!F19),"",'Kniha jízd'!F19)
B23: =IF(ISBLANK('Kniha jízd'!B20),"",'Kniha jízd'!B20) | C23: Odjezd | D23: =IF(ISBLANK('Kniha jízd'!C20),"",'Kniha jízd'!C20) | E23: =IF(ISBLANK('Kniha jízd'!E20),"",'Kniha jízd'!E20) | F23: =IF(ISBLANK('Kniha jízd'!B20),"",LEFT($F$107,3)) | H23: =IF(ISBLANK('Kniha jízd'!J20),"",'Kniha jízd'!J20) | J23: =IF(ISBLANK('Kniha jízd'!K20),"",'Kniha jízd'!K20) | K23: =IF(E21="","",IF(E24="","",IF(E24-E21<$C$108,"",IF(E24-E21<=$C$109,$F$108,$F$109)))) | N23: =IF(SUM(J23:M24)>0,SUM(J23:M24),"")
C24: Příjezd | D24: =IF(ISBLANK('Kniha jízd'!D20),"",'Kniha jízd'!D20) | E24: =IF(ISBLANK('Kniha jízd'!F20),"",'Kniha jízd'!F20)
B25: =IF(ISBLANK('Kniha jízd'!B21),"",'Kniha jízd'!B21) | C25: Odjezd | D25: =IF(ISBLANK('Kniha jízd'!C21),"",'Kniha jízd'!C21) | E25: =IF(ISBLANK('Kniha jízd'!E21),"",'Kniha jízd'!E21) | F25: =IF(ISBLANK('Kniha jízd'!B21),"",LEFT($F$107,3)) | H25: =IF(ISBLANK('Kniha jízd'!J21),"",'Kniha jízd'!J21) | J25: =IF(ISBLANK('Kniha jízd'!K21),"",'Kniha jízd'!K21) | N25: =IF(SUM(J25:M26)>0,SUM(J25:M26),"")
C26: Příjezd | D26: =IF(ISBLANK('Kniha jízd'!D21),"",'Kniha jízd'!D21) | E26: =IF(ISBLANK('Kniha jízd'!F21),"",'Kniha jízd'!F21)
B27: =IF(ISBLANK('Kniha jízd'!B22),"",'Kniha jízd'!B22) | C27: Odjezd | D27: =IF(ISBLANK('Kniha jízd'!C22),"",'Kniha jízd'!C22) | E27: =IF(ISBLANK('Kniha jízd'!E22),"",'Kniha jízd'!E22) | F27: =IF(ISBLANK('Kniha jízd'!B22),"",LEFT($F$107,3)) | H27: =IF(ISBLANK('Kniha jízd'!J22),"",'Kniha jízd'!J22) | J27: =IF(ISBLANK('Kniha jízd'!K22),"",'Kniha jízd'!K22) | K27: =IF(E25="","",IF(E28="","",IF(E28-E25<$C$108,"",IF(E28-E25<=$C$109,$F$108,$F$109)))) | N27: =IF(SUM(J27:M28)>0,SUM(J27:M28),"")
C28: Příjezd | D28: =IF(ISBLANK('Kniha jízd'!D22),"",'Kniha jízd'!D22) | E28: =IF(ISBLANK('Kniha jízd'!F22),"",'Kniha jízd'!F22)
B29: =IF(ISBLANK('Kniha jízd'!B23),"",'Kniha jízd'!B23) | C29: Odjezd | D29: =IF(ISBLANK('Kniha jízd'!C23),"",'Kniha jízd'!C23) | E29: =IF(ISBLANK('Kniha jízd'!E23),"",'Kniha jízd'!E23) | F29: =IF(ISBLANK('Kniha jízd'!B23),"",LEFT($F$107,3)) | H29: =IF(ISBLANK('Kniha jízd'!J23),"",'Kniha jízd'!J23) | J29: =IF(ISBLANK('Kniha jízd'!K23),"",'Kniha jízd'!K23) | N29: =IF(SUM(J29:M30)>0,SUM(J29:M30),"")
C30: Příjezd | D30: =IF(ISBLANK('Kniha jízd'!D23),"",'Kniha jízd'!D23) | E30: =IF(ISBLANK('Kniha jízd'!F23),"",'Kniha jízd'!F23)
B31: =IF(ISBLANK('Kniha jízd'!B24),"",'Kniha jízd'!B24) | C31: Odjezd | D31: =IF(ISBLANK('Kniha jízd'!C24),"",'Kniha jízd'!C24) | E31: =IF(ISBLANK('Kniha jízd'!E24),"",'Kniha jízd'!E24) | F31: =IF(ISBLANK('Kniha jízd'!B24),"",LEFT($F$107,3)) | H31: =IF(ISBLANK('Kniha jízd'!J24),"",'Kniha jízd'!J24) | J31: =IF(ISBLANK('Kniha jízd'!K24),"",'Kniha jízd'!K24) | K31: =IF(E29="","",IF(E32="","",IF(E32-E29<$C$108,"",IF(E32-E29<=$C$109,$F$108,$F$109)))) | N31: =IF(SUM(J31:M32)>0,SUM(J31:M32),"")
C32: Příjezd | D32: =IF(ISBLANK('Kniha jízd'!D24),"",'Kniha jízd'!D24) | E32: =IF(ISBLANK('Kniha jízd'!F24),"",'Kniha jízd'!F24)
B33: =IF(ISBLANK('Kniha jízd'!B25),"",'Kniha jízd'!B25) | C33: Odjezd | D33: =IF(ISBLANK('Kniha jízd'!C25),"",'Kniha jízd'!D25) | E33: =IF(ISBLANK('Kniha jízd'!E25),"",'Kniha jízd'!F25) | F33: =IF(ISBLANK('Kniha jízd'!B25),"",LEFT($F$107,3)) | H33: =IF(ISBLANK('Kniha jízd'!J25),"",'Kniha jízd'!J25) | J33: =IF(ISBLANK('Kniha jízd'!K25),"",'Kniha jízd'!K25) | N33: =IF(SUM(J33:M34)>0,SUM(J33:M34),"")
C34: Příjezd | D34: =IF(ISBLANK('Kniha jízd'!D25),"",'Kniha jízd'!D25) | E34: =IF(ISBLANK('Kniha jízd'!F25),"",'Kniha jízd'!F25)
B35: =IF(ISBLANK('Kniha jízd'!B26),"",'Kniha jízd'!B26) | C35: Odjezd | D35: =IF(ISBLANK('Kniha jízd'!C26),"",'Kniha jízd'!C26) | E35: =IF(ISBLANK('Kniha jízd'!E26),"",'Kniha jízd'!E26) | F35: =IF(ISBLANK('Kniha jízd'!B26),"",LEFT($F$107,3)) | H35: =IF(ISBLANK('Kniha jízd'!J26),"",'Kniha jízd'!J26) | J35: =IF(ISBLANK('Kniha jízd'!K26),"",'Kniha jízd'!K26) | K35: =IF(E33="","",IF(E36="","",IF(E36-E33<$C$108,"",IF(E36-E33<=$C$109,$F$108,$F$109)))) | N35: =IF(SUM(J35:M36)>0,SUM(J35:M36),"")
C36: Příjezd | D36: =IF(ISBLANK('Kniha jízd'!D26),"",'Kniha jízd'!D26) | E36: =IF(ISBLANK('Kniha jízd'!F26),"",'Kniha jízd'!F26)
B37: =IF(ISBLANK('Kniha jízd'!B27),"",'Kniha jízd'!B27) | C37: Odjezd | D37: =IF(ISBLANK('Kniha jízd'!C27),"",'Kniha jízd'!C27) | E37: =IF(ISBLANK('Kniha jízd'!E27),"",'Kniha jízd'!E27) | F37: =IF(ISBLANK('Kniha jízd'!B27),"",LEFT($F$107,3)) | H37: =IF(ISBLANK('Kniha jízd'!J27),"",'Kniha jízd'!J27) | J37: =IF(ISBLANK('Kniha jízd'!K27),"",'Kniha jízd'!K27) | N37: =IF(SUM(J37:M38)>0,SUM(J37:M38),"")
C38: Příjezd | D38: =IF(ISBLANK('Kniha jízd'!D27),"",'Kniha jízd'!D27) | E38: =IF(ISBLANK('Kniha jízd'!F27),"",'Kniha jízd'!F27)
B39: =IF(ISBLANK('Kniha jízd'!B28),"",'Kniha jízd'!B28) | C39: Odjezd | D39: =IF(ISBLANK('Kniha jízd'!C28),"",'Kniha jízd'!C28) | E39: =IF(ISBLANK('Kniha jízd'!E28),"",'Kniha jízd'!E28) | F39: =IF(ISBLANK('Kniha jízd'!B28),"",LEFT($F$107,3)) | H39: =IF(ISBLANK('Kniha jízd'!J28),"",'Kniha jízd'!J28) | J39: =IF(ISBLANK('Kniha jízd'!K28),"",'Kniha jízd'!K28) | K39: =IF(E37="","",IF(E40="","",IF(E40-E37<$C$108,"",IF(E40-E37<=$C$109,$F$108,$F$109)))) | N39: =IF(SUM(J39:M40)>0,SUM(J39:M40),"")
C40: Příjezd | D40: =IF(ISBLANK('Kniha jízd'!D28),"",'Kniha jízd'!D28) | E40: =IF(ISBLANK('Kniha jízd'!F28),"",'Kniha jízd'!F28)
B41: =IF(ISBLANK('Kniha jízd'!B29),"",'Kniha jízd'!B29) | C41: Odjezd | D41: =IF(ISBLANK('Kniha jízd'!C29),"",'Kniha jízd'!C29) | E41: =IF(ISBLANK('Kniha jízd'!E29),"",'Kniha jízd'!E29) | F41: =IF(ISBLANK('Kniha jízd'!B29),"",LEFT($F$107,3)) | H41: =IF(ISBLANK('Kniha jízd'!J29),"",'Kniha jízd'!J29) | J41: =IF(ISBLANK('Kniha jízd'!K29),"",'Kniha jízd'!K29) | N41: =IF(SUM(J41:M42)>0,SUM(J41:M42),"")
C42: Příjezd | D42: =IF(ISBLANK('Kniha jízd'!D29),"",'Kniha jízd'!D29) | E42: =IF(ISBLANK('Kniha jízd'!F29),"",'Kniha jízd'!F29)
B43: =IF(ISBLANK('Kniha jízd'!B30),"",'Kniha jízd'!B30) | C43: Odjezd | D43: =IF(ISBLANK('Kniha jízd'!C30),"",'Kniha jízd'!C30) | E43: =IF(ISBLANK('Kniha jízd'!E30),"",'Kniha jízd'!E30) | F43: =IF(ISBLANK('Kniha jízd'!B30),"",LEFT($F$107,3)) | H43: =IF(ISBLANK('Kniha jízd'!J30),"",'Kniha jízd'!J30) | J43: =IF(ISBLANK('Kniha jízd'!K30),"",'Kniha jízd'!K30) | K43: =IF(E41="","",IF(E44="","",IF(E44-E41<$C$108,"",IF(E44-E41<=$C$109,$F$108,$F$109)))) | N43: =IF(SUM(J43:M44)>0,SUM(J43:M44),"")
C44: Příjezd | D44: =IF(ISBLANK('Kniha jízd'!D30),"",'Kniha jízd'!D30) | E44: =IF(ISBLANK('Kniha jízd'!F30),"",'Kniha jízd'!F30)
...

Sheet Pokyny k vyplňování
