Workbook

Sheet Strana 1 z 2
A5: Obchodní akademie a Jazyková škola
A6: s právem státní jazykové zkoušky Jihlava
A8: Šablona 32
A10: VY_32_INOVACE_005.ICT.12
A12: Práce s listy

Sheet Strana 2 z 2
A1: Číslo projektu: | B1: CZ.1.07/1.5.00/34.0744
A2: Šablona: | B2: VY_32_INOVACE
A3: Číslo DUMU: | B3: 005.ICT.12
A4: Předmět: | B4: Informační technologie
A5: Název materiálu: | B5: Práce s listy
A6: Autor: | B6: Mgr. David Sedlák
A7: Formát: | B7: Dokument Microsoft Excel
A8: Velikost: | B8: 186 KB
A9: Stupeň a typ vzdělávání: | B9: SŠ – odborné vzdělávání
A10: Licence k obrazovému materiálu: | B10: CC BY, CC BY-SA
A11: Datum vytvoření: | B11: 12. 04. 2013
A12: Klíčová slova: | B12: List, Suma, Průměr
A13: Anotace: | B13: Pracovní list slouží k naučení práce mezi jednotlivými listy. Žáci si procvičí i funkce které se naučili v dřívějších hodinách.

Sheet Celkem zad
D1: Výdělek
A2: Čajovna XYZ - statistika | B2: Počet | C2: Září | D2: Říjen | E2: Listopad | F2: Prosinec
A3: Zelené
A4: Zhe Jiang Shi Feng Long Jing
A5: 2011 Hai Nan Bai Sha Lu
A6: Kukicha Nunosawa
A7: Gyokuro
A8: Moli Tai Mu long Zhu
A9: Moli Qian Re Hong (TeaArt)
A11: Bílé
A12: Fu Ding Bai Mu Dan
A13: Bai Hao Yin Zhen
A15: Oolongy
A16: Tie Guan Yin Traditional
... A48: Pamlsky
A49: Pistácie | S49: 2
A50: Mandle - loupané
A51: Mandle - uzené
A52: Kešu - natural | R52: 1
A53: Kešu - pražené
A54: Rozinky
A55: Ananas
A56: Papája
A57: Kokos
A58: Banán
A59: Sezamové tyčinky | R59: 1 | S59: 3
A60: Slunečnicová semínka
A61: Pamlsky - počet celkem
A62: Pamlsky - výdělek celkem
A63: Měsíční výdělek - Čaje i pamlsky
A64: Celkový zisk
A65: Průměrný měsíční zisk

Sheet Září zad
A2: Čaje | B2: Cena | C2: Výdělek | D2: 40787 | E2: 40788 | F2: 40789 | G2: 40790 | H2: 40791 | I2: 40792 | J2: 40793 | K2: 40794 | L2: 40795 | M2: 40796 | N2: 40797 | O2: 40798 | P2: 40799 | Q2: 40800 | R2: 40801 | S2: 40802 | T2: 40803 | U2: 40804 | V2: 40805 | W2: 40806 | X2: 40807 | Y2: 40808 | Z2: 40809 | AA2: 40810 | AB2: 40811 | AC2: 40812 | AD2: 40813 | AE2: 40814 | AF2: 40815 | AG2: 40816 | AI2: Celkem
A3: Zelené
A4: Zhe Jiang Shi Feng Long Jing | B4: 65 | C4: =B4*AI4 -> 0 | D4: 1 | K4: 1 | S4: 1 | V4: 1 | Z4: 2
A5: 2011 Hai Nan Bai Sha Lu | B5: 50 | C5: =B5*AI5 -> 0 | H5: 1 | L5: 2 | M5: 1 | N5: 1 | P5: 1 | T5: 2 | W5: 2 | AB5: 1 | AF5: 2
A6: Kukicha Nunosawa | B6: 105 | C6: =B6*AI6 -> 0 | F6: 1 | O6: 1 | Z6: 1 | AA6: 1
A7: Gyokuro | B7: 150 | E7: 1 | J7: 1 | K7: 1 | M7: 1 | R7: 1 | S7: 1 | U7: 1 | V7: 1 | X7: 1 | Y7: 1 | AD7: 1 | AE7: 1 | AG7: 1
A8: Moli Tai Mu long Zhu | B8: 75 | L8: 1 | T8: 1 | W8: 1 | Z8: 1 | AF8: 1
A9: Moli Qian Re Hong (TeaArt) | B9: 45 | H9: 1 | K9: 1 | P9: 1 | S9: 1 | V9: 1 | AB9: 1 | AE9: 1
A11: Bílé
A12: Fu Ding Bai Mu Dan | B12: 60 | D12: 1 | M12: 1 | P12: 1 | S12: 1 | V12: 4 | W12: 1 | Z12: 1 | AC12: 1
A13: Bai Hao Yin Zhen | B13: 85 | J13: 1 | K13: 1 | N13: 1 | Q13: 1 | R13: 1 | T13: 1 | U13: 1 | X13: 1 | AA13: 1 | AB13: 1 | AD13: 1
A15: Oolongy
A16: Tie Guan Yin Traditional | B16: 70 | H16: 1 | I16: 1 | K16: 1 | L16: 1 | M16: 1 | O16: 1 | P16: 1 | R16: 1 | S16: 1 | V16: 1 | W16: 1 | Y16: 1 | Z16: 1
A17: Wu Yi Shui Hsien Traditional | B17: 80 | F17: 1 | J17: 1 | N17: 1 | Q17: 1 | T17: 1 | X17: 1 | AA17: 1 | AD17: 1
A18: Mi Lan Dan Cong Oolong | B18: 65 | H18: 1 | K18: 1 | L18: 1 | O18: 1 | R18: 1 | S18: 1 | U18: 1 | V18: 1 | Y18: 1 | Z18: 1 | AB18: 1 | AC18: 1 | AE18: 1
A19: Jin Xuan Nai Xiang | B19: 60 | D19: 1 | T19: 1 | AA19: 1 | AD19: 1 | AG19: 1
A20: Anxi Jin Gu Huang Jin Gui | B20: 75 | H20: 1 | I20: 1 | K20: 1 | L20: 1 | M20: 1 | O20: 1 | P20: 1 | R20: 1 | S20: 1 | V20: 1 | W20: 1 | Y20: 1 | Z20: 1
A22: Červené
A23: Wu Liang Hong Cha | B23: 80 | J23: 1 | R23: 1 | AD23: 1 | AE23: 1 | AG23: 3
A24: Li Zhi Hong Cha | B24: 70 | D24: 1 | P24: 1 | T24: 1 | V24: 1 | Y24: 1 | Z24: 1 | AB24: 1 | AC24: 1
A25: Darjeeling Turzum SF | B25: 90 | G25: 1 | R25: 1 | AA25: 1 | AD25: 1 | AF25: 1
A26: Cejlon FBOPF Yalta | B26: 50 | N26: 1 | Q26: 1 | W26: 1 | Z26: 1
A28: Rostlinné / Bylinné
A29: Mate Carnival | B29: 40 | N29: 1 | O29: 1 | U29: 1 | W29: 1 | AA29: 1 | AF29: 1
A30: Yerba Mate | B30: 60 | H30: 1 | K30: 1 | L30: 1 | R30: 1 | S30: 1 | Y30: 1 | AE30: 1
A31: Honey Bush | B31: 50 | E31: 1 | L31: 1 | AB31: 1 | AC31: 1
A32: Rooibos red | B32: 45 | I32: 1 | J32: 1 | Y32: 1 | AG32: 1
A34: Ovocné
A35: Sun da Capo | B35: 60 | Q35: 1 | W35: 1 | Z35: 1 | AF35: 1
A36: Apple/Ginger | B36: 50 | D36: 1 | L36: 1 | N36: 1 | O36: 1 | T36: 1 | U36: 1
A37: Chvíle u krbu | B37: 50 | H37: 1 | AB37: 1
A38: Havajský koktejl | B38: 50 | AF38: 1
A40: Nečaje
A41: Yogi | B41: 80 | M41: 1 | Q41: 3 | T41: 2 | W41: 1 | Y41: 1 | AC41: 1
A42: Sahlep | B42: 60 | D42: 1 | H42: 1 | S42: 2 | AB42: 1 | AG42: 1
A43: Le Tuareg | B43: 50 | Z43: 1
A46: Pamlsky
A47: Pistácie | B47: 30 | S47: 2 | AG47: 1
A48: Mandle - loupané | B48: 30 | D48: 1
A49: Mandle - uzené | B49: 30 | L49: 1 | O49: 1 | W49: 1 | Z49: 1
...

Sheet Říjen zad
A2: Čaje | B2: Cena | C2: Výdělek | D2: 40817 | E2: 40818 | F2: 40819 | G2: 40820 | H2: 40821 | I2: 40822 | J2: 40823 | K2: 40824 | L2: 40825 | M2: 40826 | N2: 40827 | O2: 40828 | P2: 40829 | Q2: 40830 | R2: 40831 | S2: 40832 | T2: 40833 | U2: 40834 | V2: 40835 | W2: 40836 | X2: 40837 | Y2: 40838 | Z2: 40839 | AA2: 40840 | AB2: 40841 | AC2: 40842 | AD2: 40843 | AE2: 40844 | AF2: 40845 | AG2: 40846 | AH2: 40847 | AI2: Celkem
A3: Zelené
A4: Zhe Jiang Shi Feng Long Jing | B4: 65 | D4: 1 | E4: 1 | G4: 1 | K4: 1 | O4: 1 | P4: 1 | R4: 1 | V4: 1 | Z4: 2 | AA4: 1 | AB4: 1 | AD4: 1 | AH4: 1
A5: 2011 Hai Nan Bai Sha Lu | B5: 50 | E5: 2 | H5: 1 | L5: 2 | M5: 1 | N5: 1 | P5: 2 | S5: 1 | W5: 2 | AB5: 2 | AE5: 1
A6: Kukicha Nunosawa | B6: 105 | E6: 3 | F6: 1 | P6: 3 | Q6: 1 | Z6: 1 | AB6: 3 | AC6: 1
A7: Gyokuro | B7: 150 | D7: 1 | E7: 1 | F7: 3 | G7: 1 | I7: 1 | J7: 1 | K7: 1 | M7: 1 | O7: 1 | P7: 1 | Q7: 3 | R7: 1 | T7: 1 | U7: 1 | V7: 1 | X7: 1 | Y7: 1 | AA7: 1 | AB7: 1 | AC7: 3 | AD7: 1 | AF7: 1 | AG7: 1 | AH7: 1
A8: Moli Tai Mu long Zhu | B8: 75 | E8: 1 | G8: 2 | I8: 1 | L8: 1 | P8: 1 | R8: 2 | T8: 1 | W8: 1 | Z8: 1 | AB8: 1 | AD8: 2 | AF8: 1
A9: Moli Qian Re Hong (TeaArt) | B9: 45 | F9: 1 | G9: 1 | H9: 1 | K9: 1 | Q9: 1 | R9: 1 | S9: 1 | V9: 1 | AC9: 1 | AD9: 1 | AE9: 1 | AH9: 1
A11: Bílé
A12: Fu Ding Bai Mu Dan | B12: 60 | D12: 1 | M12: 1 | P12: 1 | R12: 8 | S12: 1 | V12: 4 | W12: 1 | Z12: 1 | AC12: 1
A13: Bai Hao Yin Zhen | B13: 85 | J13: 1 | K13: 1 | N13: 1 | Q13: 1 | R13: 1 | T13: 1 | U13: 1 | X13: 1 | AA13: 1 | AB13: 1 | AD13: 1
A15: Oolongy
A16: Tie Guan Yin Traditional | B16: 70 | H16: 1 | I16: 1 | K16: 1 | L16: 1 | M16: 1 | O16: 1 | P16: 1 | R16: 1 | S16: 1 | U16: 1 | Y16: 1 | AB16: 1 | AC16: 1 | AD16: 1 | AF16: 1
A17: Wu Yi Shui Hsien Traditional | B17: 80 | F17: 1 | J17: 1 | N17: 1 | Q17: 1 | S17: 2 | V17: 1 | AD17: 2 | AG17: 1
A18: Mi Lan Dan Cong Oolong | B18: 65 | H18: 1 | K18: 1 | L18: 1 | O18: 1 | S18: 3 | T18: 1 | AD18: 3 | AE18: 1
A19: Jin Xuan Nai Xiang | B19: 60 | D19: 1 | R19: 1 | S19: 1 | T19: 3 | U19: 1 | W19: 1 | X19: 1 | Y19: 1 | Z19: 1 | AA19: 1 | AB19: 1 | AC19: 1 | AD19: 1 | AE19: 3 | AF19: 1 | AH19: 1
A20: Anxi Jin Gu Huang Jin Gui | B20: 75 | H20: 1 | I20: 1 | K20: 1 | L20: 1 | M20: 1 | O20: 1 | P20: 1 | S20: 1 | U20: 2 | W20: 1 | Z20: 1 | AD20: 1 | AF20: 2 | AH20: 1
A22: Červené
A23: Wu Liang Hong Cha | B23: 80 | G23: 1 | J23: 1 | K23: 1 | R23: 1 | AD23: 1 | AE23: 1 | AG23: 3
A24: Li Zhi Hong Cha | B24: 70 | D24: 1 | O24: 1 | R24: 1 | S24: 1 | V24: 1 | Y24: 1 | Z24: 1 | AB24: 1 | AC24: 1
A25: Darjeeling Turzum SF | B25: 90 | G25: 1 | H25: 1 | J25: 1 | K25: 1 | L25: 1 | AA25: 1 | AD25: 1 | AF25: 1
A26: Cejlon FBOPF Yalta | B26: 50 | O26: 1 | P26: 1 | R26: 1 | S26: 1 | T26: 1 | W26: 1 | Z26: 1
A28: Rostlinné / Bylinné
A29: Mate Carnival | B29: 40 | F29: 1 | I29: 1 | J29: 1 | N29: 1 | O29: 1 | U29: 1 | W29: 1 | AA29: 1 | AF29: 1
A30: Yerba Mate | B30: 60 | R30: 1 | U30: 1 | V30: 1 | Y30: 1 | AE30: 1
A31: Honey Bush | B31: 50 | F31: 1 | G31: 1 | I31: 1 | J31: 1 | K31: 1 | AB31: 1 | AC31: 1
A32: Rooibos red | B32: 45 | I32: 1 | J32: 1 | R32: 1 | S32: 1 | U32: 1 | V32: 1 | W32: 1 | Y32: 1 | AG32: 1
A34: Ovocné
A35: Sun da Capo | B35: 60 | E35: 1 | H35: 1 | I35: 1 | Q35: 1 | W35: 1 | Z35: 1 | AF35: 1
A36: Apple/Ginger | B36: 50 | L36: 1 | N36: 1 | Q36: 1 | R36: 1 | U36: 1
A37: Chvíle u krbu | B37: 50 | E37: 1 | F37: 1 | H37: 1 | I37: 1 | J37: 1 | AB37: 1
A38: Havajský koktejl | B38: 50 | N38: 1 | O38: 1 | Q38: 1 | R38: 1 | S38: 1 | AF38: 1
A40: Nečaje
A41: Yogi | B41: 80 | F41: 1 | I41: 1 | J41: 1 | M41: 1 | P41: 1 | S41: 1 | T41: 1 | W41: 1 | Y41: 1 | AC41: 1
A42: Sahlep | B42: 60 | D42: 1 | AB42: 1 | AG42: 1
A43: Le Tuareg | B43: 50 | F43: 1 | G43: 1 | I43: 1 | J43: 1 | K43: 1 | P43: 1 | Q43: 1 | S43: 1 | T43: 1 | U43: 1 | Z43: 1
A46: Pamlsky
A47: Pistácie | B47: 30 | S47: 2 | AG47: 1
A48: Mandle - loupané | B48: 30 | D48: 1 | H48: 1 | K48: 1 | L48: 1
A49: Mandle - uzené | B49: 30 | O49: 1 | S49: 1 | V49: 1 | W49: 1 | Z49: 1
...

Sheet Listopad zad
A2: Čaje | B2: Cena | C2: Výdělek | D2: 40848 | E2: 40849 | F2: 40850 | G2: 40851 | H2: 40852 | I2: 40853 | J2: 40854 | K2: 40855 | L2: 40856 | M2: 40857 | N2: 40858 | O2: 40859 | P2: 40860 | Q2: 40861 | R2: 40862 | S2: 40863 | T2: 40864 | U2: 40865 | V2: 40866 | W2: 40867 | X2: 40868 | Y2: 40869 | Z2: 40870 | AA2: 40871 | AB2: 40872 | AC2: 40873 | AD2: 40874 | AE2: 40875 | AF2: 40876 | AG2: 40877 | AI2: Celkem
A3: Zelené
A4: Zhe Jiang Shi Feng Long Jing | B4: 65 | D4: 1 | K4: 1 | S4: 1 | V4: 1 | Z4: 2
A5: 2011 Hai Nan Bai Sha Lu | B5: 50 | H5: 1 | L5: 2 | M5: 1 | N5: 1 | P5: 1 | T5: 2 | W5: 2 | AB5: 1 | AF5: 2
A6: Kukicha Nunosawa | B6: 105 | F6: 1 | O6: 1 | Z6: 1 | AA6: 1
A7: Gyokuro | B7: 150 | E7: 1 | J7: 1 | K7: 1 | M7: 1 | R7: 1 | S7: 1 | U7: 1 | V7: 1 | X7: 1 | Y7: 1 | AD7: 1 | AE7: 1 | AG7: 1
A8: Moli Tai Mu long Zhu | B8: 75 | L8: 1 | T8: 1 | W8: 1 | Z8: 1 | AF8: 1
A9: Moli Qian Re Hong (TeaArt) | B9: 45 | H9: 1 | K9: 1 | P9: 1 | S9: 1 | V9: 1 | AB9: 1 | AE9: 1
A11: Bílé
A12: Fu Ding Bai Mu Dan | B12: 60 | D12: 1 | M12: 1 | P12: 1 | Q12: 1 | S12: 1 | T12: 1 | V12: 1 | W12: 1 | Y12: 1 | Z12: 1 | AB12: 1 | AC12: 1 | AF12: 1 | AG12: 1
A13: Bai Hao Yin Zhen | B13: 85 | J13: 1 | K13: 1 | N13: 1 | Q13: 1 | R13: 1 | T13: 1 | U13: 1 | X13: 1 | Z13: 1 | AA13: 1 | AC13: 8 | AD13: 1 | AG13: 1
A15: Oolongy
A16: Tie Guan Yin Traditional | B16: 70 | H16: 1 | I16: 1 | K16: 1 | L16: 1 | M16: 1 | O16: 1 | P16: 1 | R16: 1 | S16: 1 | V16: 1 | W16: 1 | Y16: 1 | Z16: 1
A17: Wu Yi Shui Hsien Traditional | B17: 80 | F17: 1 | J17: 1 | N17: 1 | P17: 1 | Q17: 1 | T17: 1 | W17: 1 | X17: 1 | AA17: 1 | AB17: 1 | AC17: 1
A18: Mi Lan Dan Cong Oolong | B18: 65 | H18: 1 | K18: 1 | L18: 1 | O18: 1 | Q18: 3 | S18: 1 | U18: 1 | V18: 1 | X18: 3 | Z18: 1 | AC18: 3 | AE18: 1
A19: Jin Xuan Nai Xiang | B19: 60 | D19: 1 | P19: 2 | R19: 5 | T19: 1 | W19: 2 | Y19: 5 | AA19: 1 | AB19: 2 | AD19: 5 | AG19: 1
A20: Anxi Jin Gu Huang Jin Gui | B20: 75 | H20: 1 | I20: 1 | K20: 1 | L20: 1 | M20: 1 | O20: 1 | P20: 1 | R20: 1 | S20: 1 | V20: 1 | W20: 1 | Y20: 1 | Z20: 1
A22: Červené
A23: Wu Liang Hong Cha | B23: 80 | J23: 1 | O23: 1 | P23: 1 | R23: 1 | V23: 1 | W23: 1 | AD23: 1 | AE23: 1 | AG23: 3
A24: Li Zhi Hong Cha | B24: 70 | D24: 1 | P24: 3 | T24: 1 | W24: 3 | Y24: 1 | Z24: 1 | AB24: 1 | AC24: 1
A25: Darjeeling Turzum SF | B25: 90 | G25: 1 | O25: 2 | Q25: 5 | R25: 1 | V25: 2 | X25: 5 | AA25: 1 | AD25: 1 | AF25: 1
A26: Cejlon FBOPF Yalta | B26: 50 | N26: 1 | Q26: 1 | W26: 1 | Z26: 1
A28: Rostlinné / Bylinné
A29: Mate Carnival | B29: 40 | N29: 1 | O29: 1 | U29: 1 | W29: 1 | AA29: 1 | AF29: 1
A30: Yerba Mate | B30: 60 | H30: 1 | K30: 1 | L30: 1 | O30: 1 | P30: 1 | R30: 1 | S30: 1 | X30: 1 | Y30: 1 | AE30: 1
A31: Honey Bush | B31: 50 | E31: 1 | L31: 1 | P31: 3 | Y31: 3 | AB31: 1 | AC31: 1
A32: Rooibos red | B32: 45 | I32: 1 | J32: 1 | O32: 2 | Q32: 5 | X32: 2 | Z32: 5 | AG32: 1
A34: Ovocné
A35: Sun da Capo | B35: 60 | M35: 1 | N35: 1 | Q35: 1 | T35: 1 | U35: 1 | W35: 1 | Y35: 1 | Z35: 1 | AF35: 1
A36: Apple/Ginger | B36: 50 | D36: 1 | L36: 1 | N36: 3 | P36: 1 | U36: 3 | Z36: 3
A37: Chvíle u krbu | B37: 50 | H37: 1 | M37: 2 | O37: 5 | P37: 3 | T37: 2 | V37: 5 | Y37: 2 | AA37: 5 | AB37: 1
A38: Havajský koktejl | B38: 50 | O38: 2 | Q38: 5 | AF38: 1
A40: Nečaje
A41: Yogi | B41: 80 | E41: 1 | F41: 1 | L41: 1 | M41: 1 | P41: 1 | Q41: 1 | T41: 2 | W41: 1 | Y41: 1 | AA41: 1 | AB41: 1
A42: Sahlep | B42: 60 | D42: 1 | F42: 3 | H42: 1 | M42: 3 | Q42: 3 | S42: 2 | AB42: 3 | AG42: 1
A43: Le Tuareg | B43: 50 | E43: 2 | G43: 5 | L43: 2 | N43: 5 | P43: 2 | R43: 5 | Z43: 1 | AA43: 2 | AC43: 5
A46: Pamlsky
A47: Pistácie | B47: 30 | S47: 2 | AG47: 1
A48: Mandle - loupané | B48: 30 | D48: 1 | K48: 2 | T48: 2
A49: Mandle - uzené | B49: 30 | L49: 1 | AB49: 2
...

Sheet Prosinec zad
A2: Čaje | B2: Cena | C2: Výdělek | D2: 40878 | E2: 40879 | F2: 40880 | G2: 40881 | H2: 40882 | I2: 40883 | J2: 40884 | K2: 40885 | L2: 40886 | M2: 40887 | N2: 40888 | O2: 40889 | P2: 40890 | Q2: 40891 | R2: 40892 | S2: 40893 | T2: 40894 | U2: 40895 | V2: 40896 | W2: 40897 | X2: 40898 | Y2: 40899 | Z2: 40900 | AA2: 40901 | AB2: 40902 | AC2: 40903 | AD2: 40904 | AE2: 40905 | AF2: 40906 | AG2: 40907 | AH2: 40908 | AI2: Celkem
A3: Zelené
A4: Zhe Jiang Shi Feng Long Jing | B4: 65 | D4: 1 | K4: 1 | S4: 1 | V4: 1 | Z4: 2
A5: 2011 Hai Nan Bai Sha Lu | B5: 50 | H5: 1 | L5: 2 | M5: 1 | N5: 1 | P5: 1 | Q5: 1 | R5: 1 | T5: 2 | W5: 2 | AB5: 1 | AF5: 2
A6: Kukicha Nunosawa | B6: 105 | F6: 1 | O6: 1 | Z6: 1 | AA6: 1
A7: Gyokuro | B7: 150 | E7: 1 | J7: 1 | K7: 1 | M7: 1 | P7: 1 | Q7: 1 | S7: 1 | U7: 1 | V7: 1 | X7: 1 | Y7: 1 | AD7: 1 | AE7: 1 | AG7: 1 | AH7: 1
A8: Moli Tai Mu long Zhu | B8: 75 | H8: 1 | I8: 1 | K8: 1 | L8: 1 | T8: 1 | W8: 1 | Z8: 1 | AF8: 1
A9: Moli Qian Re Hong (TeaArt) | B9: 45 | J9: 1 | M9: 1 | N9: 1 | P9: 1 | Q9: 1 | R9: 1 | S9: 1 | V9: 1 | AB9: 1 | AE9: 1
A11: Bílé
A12: Fu Ding Bai Mu Dan | B12: 60 | D12: 1 | H12: 1 | I12: 1 | K12: 1 | L12: 1 | M12: 1 | P12: 1 | S12: 1 | V12: 4 | W12: 1 | Z12: 1 | AC12: 1
A13: Bai Hao Yin Zhen | B13: 85 | J13: 1 | K13: 1 | N13: 1 | Q13: 1 | R13: 1 | T13: 1 | U13: 1 | X13: 1 | AA13: 1 | AB13: 1 | AD13: 1
A15: Oolongy
A16: Tie Guan Yin Traditional | B16: 70 | H16: 1 | I16: 1 | K16: 1 | L16: 1 | M16: 1 | N16: 1 | Q16: 1 | R16: 1 | V16: 1 | W16: 1 | Y16: 1 | Z16: 1
A17: Wu Yi Shui Hsien Traditional | B17: 80 | F17: 1 | J17: 1 | T17: 1 | X17: 1 | AA17: 1 | AD17: 1
A18: Mi Lan Dan Cong Oolong | B18: 65 | H18: 1 | K18: 1 | L18: 1 | N18: 1 | O18: 1 | Q18: 1 | R18: 1 | S18: 1 | U18: 1 | V18: 1 | Y18: 1 | Z18: 1 | AB18: 1 | AC18: 1 | AE18: 1
A19: Jin Xuan Nai Xiang | B19: 60 | D19: 1 | T19: 1 | AA19: 1 | AD19: 1 | AG19: 1
A20: Anxi Jin Gu Huang Jin Gui | B20: 75 | H20: 1 | I20: 1 | K20: 1 | L20: 1 | M20: 1 | O20: 1 | P20: 1 | R20: 1 | S20: 1 | V20: 1 | W20: 1 | Y20: 1 | Z20: 1
A22: Červené
A23: Wu Liang Hong Cha | B23: 80 | E23: 1 | F23: 1 | H23: 1 | I23: 1 | J23: 1 | L23: 1 | M23: 1 | O23: 1 | P23: 1 | Q23: 1 | R23: 1 | AD23: 1 | AE23: 1 | AG23: 3
A24: Li Zhi Hong Cha | B24: 70 | D24: 1 | G24: 1 | N24: 1 | T24: 1 | V24: 1 | Y24: 1 | Z24: 1 | AB24: 1 | AC24: 1
A25: Darjeeling Turzum SF | B25: 90 | E25: 1 | H25: 1 | I25: 1 | L25: 1 | O25: 1 | P25: 1 | R25: 1 | AA25: 1 | AD25: 1 | AF25: 1
A26: Cejlon FBOPF Yalta | B26: 50 | W26: 1 | Z26: 1
A28: Rostlinné / Bylinné
A29: Mate Carnival | B29: 40 | K29: 1 | L29: 1 | N29: 1 | O29: 1 | P29: 1 | U29: 1 | W29: 1 | AA29: 1 | AF29: 1
A30: Yerba Mate | B30: 60 | H30: 1 | M30: 1 | R30: 1 | S30: 1 | Y30: 1 | AE30: 1
A31: Honey Bush | B31: 50 | E31: 1 | K31: 1 | N31: 1 | O31: 1 | AB31: 1 | AC31: 1
A32: Rooibos red | B32: 45 | I32: 1 | J32: 1 | Y32: 1 | AG32: 1
A34: Ovocné
A35: Sun da Capo | B35: 60 | J35: 1 | Q35: 1 | W35: 1 | Z35: 1 | AF35: 1
A36: Apple/Ginger | B36: 50 | D36: 1 | H36: 1 | K36: 1 | L36: 1 | N36: 1 | O36: 1 | T36: 1 | U36: 1
A37: Chvíle u krbu | B37: 50 | AB37: 1
A38: Havajský koktejl | B38: 50 | H38: 1 | I38: 1 | K38: 1 | L38: 1 | M38: 1 | AF38: 1
A40: Nečaje
A41: Yogi | B41: 80 | I41: 1 | M41: 1 | Q41: 3 | T41: 2 | W41: 1 | Y41: 1 | AC41: 1
A42: Sahlep | B42: 60 | D42: 1 | G42: 1 | J42: 1 | K42: 1 | N42: 1 | O42: 1 | Q42: 1 | R42: 1 | S42: 1 | AB42: 1 | AG42: 1
A43: Le Tuareg | B43: 50 | P43: 1 | Z43: 1
A46: Pamlsky
A47: Pistácie | B47: 30 | R47: 1 | AG47: 1
A48: Mandle - loupané | B48: 30 | D48: 1 | K48: 1 | O48: 1
A49: Mandle - uzené | B49: 30 | H49: 1 | Q49: 1 | W49: 1 | Z49: 1
...

Sheet Celkem
D1: Výdělek
A2: Čajovna XYZ - statistika | B2: Počet | C2: Září | D2: Říjen | E2: Listopad | F2: Prosinec
A3: Zelené
A4: Zhe Jiang Shi Feng Long Jing | B4: =Září!AI4+Říjen!AI4+Listopad!AI4+Prosinec!AI4 -> 32 | C4: =Září!C4 -> 390 | D4: =Říjen!C4 -> 910 | E4: =Listopad!C4 -> 390 | F4: =Prosinec!C4 -> 390
A5: 2011 Hai Nan Bai Sha Lu | B5: =Září!AI5+Říjen!AI5+Listopad!AI5+Prosinec!AI5 -> 56 | C5: =Září!C5 -> 650 | D5: =Říjen!C5 -> 750 | E5: =Listopad!C5 -> 650 | F5: =Prosinec!C5 -> 750
A6: Kukicha Nunosawa | B6: =Září!AI6+Říjen!AI6+Listopad!AI6+Prosinec!AI6 -> 25 | C6: =Září!C6 -> 420 | D6: =Říjen!C6 -> 1365 | E6: =Listopad!C6 -> 420 | F6: =Prosinec!C6 -> 420
A7: Gyokuro | B7: =Září!AI7+Říjen!AI7+Listopad!AI7+Prosinec!AI7 -> 71 | C7: =Září!C7 -> 1950 | D7: =Říjen!C7 -> 4500 | E7: =Listopad!C7 -> 1950 | F7: =Prosinec!C7 -> 2250
A8: Moli Tai Mu long Zhu | B8: =Září!AI8+Říjen!AI8+Listopad!AI8+Prosinec!AI8 -> 33 | C8: =Září!C8 -> 375 | D8: =Říjen!C8 -> 1125 | E8: =Listopad!C8 -> 375 | F8: =Prosinec!C8 -> 600
A9: Moli Qian Re Hong (TeaArt) | B9: =Září!AI9+Říjen!AI9+Listopad!AI9+Prosinec!AI9 -> 36 | C9: =Září!C9 -> 315 | D9: =Říjen!C9 -> 540 | E9: =Listopad!C9 -> 315 | F9: =Prosinec!C9 -> 450
A11: Bílé
A12: Fu Ding Bai Mu Dan | B12: =Září!AI12+Říjen!AI12+Listopad!AI12+Prosinec!AI12 -> 59 | C12: =Září!C12 -> 660 | D12: =Říjen!C12 -> 1140 | E12: =Listopad!C12 -> 840 | F12: =Prosinec!C12 -> 900
A13: Bai Hao Yin Zhen | B13: =Září!AI13+Říjen!AI13+Listopad!AI13+Prosinec!AI13 -> 53 | C13: =Září!C13 -> 935 | D13: =Říjen!C13 -> 935 | E13: =Listopad!C13 -> 1700 | F13: =Prosinec!C13 -> 935
A15: Oolongy
A16: Tie Guan Yin Traditional | B16: =Září!AI16+Říjen!AI16+Listopad!AI16+Prosinec!AI16 -> 53 | C16: =Září!C16 -> 910 | D16: =Říjen!C16 -> 1050 | E16: =Listopad!C16 -> 910 | F16: =Prosinec!C16 -> 840
A17: Wu Yi Shui Hsien Traditional | B17: =Září!AI17+Říjen!AI17+Listopad!AI17+Prosinec!AI17 -> 35 | C17: =Září!C17 -> 640 | D17: =Říjen!C17 -> 800 | E17: =Listopad!C17 -> 880 | F17: =Prosinec!C17 -> 480
A18: Mi Lan Dan Cong Oolong | B18: =Září!AI18+Říjen!AI18+Listopad!AI18+Prosinec!AI18 -> 58 | C18: =Září!C18 -> 845 | D18: =Říjen!C18 -> 780 | E18: =Listopad!C18 -> 1170 | F18: =Prosinec!C18 -> 975
A19: Jin Xuan Nai Xiang | B19: =Září!AI19+Říjen!AI19+Listopad!AI19+Prosinec!AI19 -> 55 | C19: =Září!C19 -> 300 | D19: =Říjen!C19 -> 1200 | E19: =Listopad!C19 -> 1500 | F19: =Prosinec!C19 -> 300
A20: Anxi Jin Gu Huang Jin Gui | B20: =Září!AI20+Říjen!AI20+Listopad!AI20+Prosinec!AI20 -> 55 | C20: =Září!C20 -> 975 | D20: =Říjen!C20 -> 1200 | E20: =Listopad!C20 -> 975 | F20: =Prosinec!C20 -> 975
A22: Červené
A23: Wu Liang Hong Cha | B23: =Září!AI23+Říjen!AI23+Listopad!AI23+Prosinec!AI23 -> 43 | C23: =Září!C23 -> 560 | D23: =Říjen!C23 -> 720 | E23: =Listopad!C23 -> 880 | F23: =Prosinec!C23 -> 1280
A24: Li Zhi Hong Cha | B24: =Září!AI24+Říjen!AI24+Listopad!AI24+Prosinec!AI24 -> 38 | C24: =Září!C24 -> 560 | D24: =Říjen!C24 -> 630 | E24: =Listopad!C24 -> 840 | F24: =Prosinec!C24 -> 630
A25: Darjeeling Turzum SF | B25: =Září!AI25+Říjen!AI25+Listopad!AI25+Prosinec!AI25 -> 42 | C25: =Září!C25 -> 450 | D25: =Říjen!C25 -> 720 | E25: =Listopad!C25 -> 1710 | F25: =Prosinec!C25 -> 900
A26: Cejlon FBOPF Yalta | B26: =Září!AI26+Říjen!AI26+Listopad!AI26+Prosinec!AI26 -> 17 | C26: =Září!C26 -> 200 | D26: =Říjen!C26 -> 350 | E26: =Listopad!C26 -> 200 | F26: =Prosinec!C26 -> 100
A28: Rostlinné / Bylinné
A29: Mate Carnival | B29: =Září!AI29+Říjen!AI29+Listopad!AI29+Prosinec!AI29 -> 30 | C29: =Září!C29 -> 240 | D29: =Říjen!C29 -> 360 | E29: =Listopad!C29 -> 240 | F29: =Prosinec!C29 -> 360
A30: Yerba Mate | B30: =Září!AI30+Říjen!AI30+Listopad!AI30+Prosinec!AI30 -> 28 | C30: =Září!C30 -> 420 | D30: =Říjen!C30 -> 300 | E30: =Listopad!C30 -> 600 | F30: =Prosinec!C30 -> 360
A31: Honey Bush | B31: =Září!AI31+Říjen!AI31+Listopad!AI31+Prosinec!AI31 -> 27 | C31: =Září!C31 -> 200 | D31: =Říjen!C31 -> 350 | E31: =Listopad!C31 -> 500 | F31: =Prosinec!C31 -> 300
A32: Rooibos red | B32: =Září!AI32+Říjen!AI32+Listopad!AI32+Prosinec!AI32 -> 34 | C32: =Září!C32 -> 180 | D32: =Říjen!C32 -> 405 | E32: =Listopad!C32 -> 765 | F32: =Prosinec!C32 -> 180
A34: Ovocné
A35: Sun da Capo | B35: =Září!AI35+Říjen!AI35+Listopad!AI35+Prosinec!AI35 -> 25 | C35: =Září!C35 -> 240 | D35: =Říjen!C35 -> 420 | E35: =Listopad!C35 -> 540 | F35: =Prosinec!C35 -> 300
A36: Apple/Ginger | B36: =Září!AI36+Říjen!AI36+Listopad!AI36+Prosinec!AI36 -> 31 | C36: =Září!C36 -> 300 | D36: =Říjen!C36 -> 250 | E36: =Listopad!C36 -> 600 | F36: =Prosinec!C36 -> 400
A37: Chvíle u krbu | B37: =Září!AI37+Říjen!AI37+Listopad!AI37+Prosinec!AI37 -> 35 | C37: =Září!C37 -> 100 | D37: =Říjen!C37 -> 300 | E37: =Listopad!C37 -> 1300 | F37: =Prosinec!C37 -> 50
A38: Havajský koktejl | B38: =Září!AI38+Říjen!AI38+Listopad!AI38+Prosinec!AI38 -> 21 | C38: =Září!C38 -> 50 | D38: =Říjen!C38 -> 300 | E38: =Listopad!C38 -> 400 | F38: =Prosinec!C38 -> 300
A40: Nečaje
A41: Yogi | B41: =Září!AI41+Říjen!AI41+Listopad!AI41+Prosinec!AI41 -> 41 | C41: =Září!C41 -> 720 | D41: =Říjen!C41 -> 800 | E41: =Listopad!C41 -> 960 | F41: =Prosinec!C41 -> 800
A42: Sahlep | B42: =Září!AI42+Říjen!AI42+Listopad!AI42+Prosinec!AI42 -> 37 | C42: =Září!C42 -> 360 | D42: =Říjen!C42 -> 180 | E42: =Listopad!C42 -> 1020 | F42: =Prosinec!C42 -> 660
A43: Le Tuareg | B43: =Září!AI43+Říjen!AI43+Listopad!AI43+Prosinec!AI43 -> 43 | C43: =Září!C43 -> 50 | D43: =Říjen!C43 -> 550 | E43: =Listopad!C43 -> 1450 | F43: =Prosinec!C43 -> 100
A45: Čaje - počet celkem | B45: =SUM(B4:B44) -> 1113 | C45: =SUM(C4:C43) -> 13995 | D45: =SUM(D4:D43) -> 22930 | E45: =SUM(E4:E43) -> 24080 | F45: =SUM(F4:F43) -> 16985
A46: Čaje - výdělek celkem | B46: =SUM(C45:F45) -> 77990
A48: Pamlsky
...

Sheet Září
A2: Čaje | B2: Cena | C2: Výdělek | D2: 40787 | E2: 40788 | F2: 40789 | G2: 40790 | H2: 40791 | I2: 40792 | J2: 40793 | K2: 40794 | L2: 40795 | M2: 40796 | N2: 40797 | O2: 40798 | P2: 40799 | Q2: 40800 | R2: 40801 | S2: 40802 | T2: 40803 | U2: 40804 | V2: 40805 | W2: 40806 | X2: 40807 | Y2: 40808 | Z2: 40809 | AA2: 40810 | AB2: 40811 | AC2: 40812 | AD2: 40813 | AE2: 40814 | AF2: 40815 | AG2: 40816 | AI2: Celkem
A3: Zelené
A4: Zhe Jiang Shi Feng Long Jing | B4: 65 | C4: =B4*AI4 -> 390 | D4: 1 | K4: 1 | S4: 1 | V4: 1 | Z4: 2 | AI4: =SUM(D4:AH4) -> 6
A5: 2011 Hai Nan Bai Sha Lu | B5: 50 | C5: =B5*AI5 -> 650 | H5: 1 | L5: 2 | M5: 1 | N5: 1 | P5: 1 | T5: 2 | W5: 2 | AB5: 1 | AF5: 2 | AI5: =SUM(D5:AH5) -> 13
A6: Kukicha Nunosawa | B6: 105 | C6: =B6*AI6 -> 420 | F6: 1 | O6: 1 | Z6: 1 | AA6: 1 | AI6: =SUM(D6:AH6) -> 4
A7: Gyokuro | B7: 150 | C7: =B7*AI7 -> 1950 | E7: 1 | J7: 1 | K7: 1 | M7: 1 | R7: 1 | S7: 1 | U7: 1 | V7: 1 | X7: 1 | Y7: 1 | AD7: 1 | AE7: 1 | AG7: 1 | AI7: =SUM(D7:AH7) -> 13
A8: Moli Tai Mu long Zhu | B8: 75 | C8: =B8*AI8 -> 375 | L8: 1 | T8: 1 | W8: 1 | Z8: 1 | AF8: 1 | AI8: =SUM(D8:AH8) -> 5
A9: Moli Qian Re Hong (TeaArt) | B9: 45 | C9: =B9*AI9 -> 315 | H9: 1 | K9: 1 | P9: 1 | S9: 1 | V9: 1 | AB9: 1 | AE9: 1 | AI9: =SUM(D9:AH9) -> 7
C10: =B10*AI10 -> 0 | AI10: =SUM(D10:AH10) -> 0
A11: Bílé | C11: =B11*AI11 -> 0 | AI11: =SUM(D11:AH11) -> 0
A12: Fu Ding Bai Mu Dan | B12: 60 | C12: =B12*AI12 -> 660 | D12: 1 | M12: 1 | P12: 1 | S12: 1 | V12: 4 | W12: 1 | Z12: 1 | AC12: 1 | AI12: =SUM(D12:AH12) -> 11
A13: Bai Hao Yin Zhen | B13: 85 | C13: =B13*AI13 -> 935 | J13: 1 | K13: 1 | N13: 1 | Q13: 1 | R13: 1 | T13: 1 | U13: 1 | X13: 1 | AA13: 1 | AB13: 1 | AD13: 1 | AI13: =SUM(D13:AH13) -> 11
C14: =B14*AI14 -> 0 | AI14: =SUM(D14:AH14) -> 0
A15: Oolongy | C15: =B15*AI15 -> 0 | AI15: =SUM(D15:AH15) -> 0
A16: Tie Guan Yin Traditional | B16: 70 | C16: =B16*AI16 -> 910 | H16: 1 | I16: 1 | K16: 1 | L16: 1 | M16: 1 | O16: 1 | P16: 1 | R16: 1 | S16: 1 | V16: 1 | W16: 1 | Y16: 1 | Z16: 1 | AI16: =SUM(D16:AH16) -> 13
A17: Wu Yi Shui Hsien Traditional | B17: 80 | C17: =B17*AI17 -> 640 | F17: 1 | J17: 1 | N17: 1 | Q17: 1 | T17: 1 | X17: 1 | AA17: 1 | AD17: 1 | AI17: =SUM(D17:AH17) -> 8
A18: Mi Lan Dan Cong Oolong | B18: 65 | C18: =B18*AI18 -> 845 | H18: 1 | K18: 1 | L18: 1 | O18: 1 | R18: 1 | S18: 1 | U18: 1 | V18: 1 | Y18: 1 | Z18: 1 | AB18: 1 | AC18: 1 | AE18: 1 | AI18: =SUM(D18:AH18) -> 13
A19: Jin Xuan Nai Xiang | B19: 60 | C19: =B19*AI19 -> 300 | D19: 1 | T19: 1 | AA19: 1 | AD19: 1 | AG19: 1 | AI19: =SUM(D19:AH19) -> 5
A20: Anxi Jin Gu Huang Jin Gui | B20: 75 | C20: =B20*AI20 -> 975 | H20: 1 | I20: 1 | K20: 1 | L20: 1 | M20: 1 | O20: 1 | P20: 1 | R20: 1 | S20: 1 | V20: 1 | W20: 1 | Y20: 1 | Z20: 1 | AI20: =SUM(D20:AH20) -> 13
C21: =B21*AI21 -> 0 | AI21: =SUM(D21:AH21) -> 0
A22: Červené | C22: =B22*AI22 -> 0 | AI22: =SUM(D22:AH22) -> 0
A23: Wu Liang Hong Cha | B23: 80 | C23: =B23*AI23 -> 560 | J23: 1 | R23: 1 | AD23: 1 | AE23: 1 | AG23: 3 | AI23: =SUM(D23:AH23) -> 7
A24: Li Zhi Hong Cha | B24: 70 | C24: =B24*AI24 -> 560 | D24: 1 | P24: 1 | T24: 1 | V24: 1 | Y24: 1 | Z24: 1 | AB24: 1 | AC24: 1 | AI24: =SUM(D24:AH24) -> 8
A25: Darjeeling Turzum SF | B25: 90 | C25: =B25*AI25 -> 450 | G25: 1 | R25: 1 | AA25: 1 | AD25: 1 | AF25: 1 | AI25: =SUM(D25:AH25) -> 5
A26: Cejlon FBOPF Yalta | B26: 50 | C26: =B26*AI26 -> 200 | N26: 1 | Q26: 1 | W26: 1 | Z26: 1 | AI26: =SUM(D26:AH26) -> 4
C27: =B27*AI27 -> 0 | AI27: =SUM(D27:AH27) -> 0
A28: Rostlinné / Bylinné | C28: =B28*AI28 -> 0 | AI28: =SUM(D28:AH28) -> 0
A29: Mate Carnival | B29: 40 | C29: =B29*AI29 -> 240 | N29: 1 | O29: 1 | U29: 1 | W29: 1 | AA29: 1 | AF29: 1 | AI29: =SUM(D29:AH29) -> 6
A30: Yerba Mate | B30: 60 | C30: =B30*AI30 -> 420 | H30: 1 | K30: 1 | L30: 1 | R30: 1 | S30: 1 | Y30: 1 | AE30: 1 | AI30: =SUM(D30:AH30) -> 7
A31: Honey Bush | B31: 50 | C31: =B31*AI31 -> 200 | E31: 1 | L31: 1 | AB31: 1 | AC31: 1 | AI31: =SUM(D31:AH31) -> 4
A32: Rooibos red | B32: 45 | C32: =B32*AI32 -> 180 | I32: 1 | J32: 1 | Y32: 1 | AG32: 1 | AI32: =SUM(D32:AH32) -> 4
C33: =B33*AI33 -> 0 | AI33: =SUM(D33:AH33) -> 0
A34: Ovocné | C34: =B34*AI34 -> 0 | AI34: =SUM(D34:AH34) -> 0
A35: Sun da Capo | B35: 60 | C35: =B35*AI35 -> 240 | Q35: 1 | W35: 1 | Z35: 1 | AF35: 1 | AI35: =SUM(D35:AH35) -> 4
A36: Apple/Ginger | B36: 50 | C36: =B36*AI36 -> 300 | D36: 1 | L36: 1 | N36: 1 | O36: 1 | T36: 1 | U36: 1 | AI36: =SUM(D36:AH36) -> 6
A37: Chvíle u krbu | B37: 50 | C37: =B37*AI37 -> 100 | H37: 1 | AB37: 1 | AI37: =SUM(D37:AH37) -> 2
A38: Havajský koktejl | B38: 50 | C38: =B38*AI38 -> 50 | AF38: 1 | AI38: =SUM(D38:AH38) -> 1
C39: =B39*AI39 -> 0 | AI39: =SUM(D39:AH39) -> 0
A40: Nečaje | C40: =B40*AI40 -> 0 | AI40: =SUM(D40:AH40) -> 0
A41: Yogi | B41: 80 | C41: =B41*AI41 -> 720 | M41: 1 | Q41: 3 | T41: 2 | W41: 1 | Y41: 1 | AC41: 1 | AI41: =SUM(D41:AH41) -> 9
...

Sheet Říjen
A2: Čaje | B2: Cena | C2: Výdělek | D2: 40817 | E2: 40818 | F2: 40819 | G2: 40820 | H2: 40821 | I2: 40822 | J2: 40823 | K2: 40824 | L2: 40825 | M2: 40826 | N2: 40827 | O2: 40828 | P2: 40829 | Q2: 40830 | R2: 40831 | S2: 40832 | T2: 40833 | U2: 40834 | V2: 40835 | W2: 40836 | X2: 40837 | Y2: 40838 | Z2: 40839 | AA2: 40840 | AB2: 40841 | AC2: 40842 | AD2: 40843 | AE2: 40844 | AF2: 40845 | AG2: 40846 | AH2: 40847 | AI2: Celkem
A3: Zelené
A4: Zhe Jiang Shi Feng Long Jing | B4: 65 | C4: =B4*AI4 -> 910 | D4: 1 | E4: 1 | G4: 1 | K4: 1 | O4: 1 | P4: 1 | R4: 1 | V4: 1 | Z4: 2 | AA4: 1 | AB4: 1 | AD4: 1 | AH4: 1 | AI4: =SUM(D4:AH4) -> 14
A5: 2011 Hai Nan Bai Sha Lu | B5: 50 | C5: =B5*AI5 -> 750 | E5: 2 | H5: 1 | L5: 2 | M5: 1 | N5: 1 | P5: 2 | S5: 1 | W5: 2 | AB5: 2 | AE5: 1 | AI5: =SUM(D5:AH5) -> 15
A6: Kukicha Nunosawa | B6: 105 | C6: =B6*AI6 -> 1365 | E6: 3 | F6: 1 | P6: 3 | Q6: 1 | Z6: 1 | AB6: 3 | AC6: 1 | AI6: =SUM(D6:AH6) -> 13
A7: Gyokuro | B7: 150 | C7: =B7*AI7 -> 4500 | D7: 1 | E7: 1 | F7: 3 | G7: 1 | I7: 1 | J7: 1 | K7: 1 | M7: 1 | O7: 1 | P7: 1 | Q7: 3 | R7: 1 | T7: 1 | U7: 1 | V7: 1 | X7: 1 | Y7: 1 | AA7: 1 | AB7: 1 | AC7: 3 | AD7: 1 | AF7: 1 | AG7: 1 | AH7: 1 | AI7: =SUM(D7:AH7) -> 30
A8: Moli Tai Mu long Zhu | B8: 75 | C8: =B8*AI8 -> 1125 | E8: 1 | G8: 2 | I8: 1 | L8: 1 | P8: 1 | R8: 2 | T8: 1 | W8: 1 | Z8: 1 | AB8: 1 | AD8: 2 | AF8: 1 | AI8: =SUM(D8:AH8) -> 15
A9: Moli Qian Re Hong (TeaArt) | B9: 45 | C9: =B9*AI9 -> 540 | F9: 1 | G9: 1 | H9: 1 | K9: 1 | Q9: 1 | R9: 1 | S9: 1 | V9: 1 | AC9: 1 | AD9: 1 | AE9: 1 | AH9: 1 | AI9: =SUM(D9:AH9) -> 12
C10: =B10*AI10 -> 0 | AI10: =SUM(D10:AH10) -> 0
A11: Bílé | C11: =B11*AI11 -> 0 | AI11: =SUM(D11:AH11) -> 0
A12: Fu Ding Bai Mu Dan | B12: 60 | C12: =B12*AI12 -> 1140 | D12: 1 | M12: 1 | P12: 1 | R12: 8 | S12: 1 | V12: 4 | W12: 1 | Z12: 1 | AC12: 1 | AI12: =SUM(D12:AH12) -> 19
A13: Bai Hao Yin Zhen | B13: 85 | C13: =B13*AI13 -> 935 | J13: 1 | K13: 1 | N13: 1 | Q13: 1 | R13: 1 | T13: 1 | U13: 1 | X13: 1 | AA13: 1 | AB13: 1 | AD13: 1 | AI13: =SUM(D13:AH13) -> 11
C14: =B14*AI14 -> 0 | AI14: =SUM(D14:AH14) -> 0
A15: Oolongy | C15: =B15*AI15 -> 0 | AI15: =SUM(D15:AH15) -> 0
A16: Tie Guan Yin Traditional | B16: 70 | C16: =B16*AI16 -> 1050 | H16: 1 | I16: 1 | K16: 1 | L16: 1 | M16: 1 | O16: 1 | P16: 1 | R16: 1 | S16: 1 | U16: 1 | Y16: 1 | AB16: 1 | AC16: 1 | AD16: 1 | AF16: 1 | AI16: =SUM(D16:AH16) -> 15
A17: Wu Yi Shui Hsien Traditional | B17: 80 | C17: =B17*AI17 -> 800 | F17: 1 | J17: 1 | N17: 1 | Q17: 1 | S17: 2 | V17: 1 | AD17: 2 | AG17: 1 | AI17: =SUM(D17:AH17) -> 10
A18: Mi Lan Dan Cong Oolong | B18: 65 | C18: =B18*AI18 -> 780 | H18: 1 | K18: 1 | L18: 1 | O18: 1 | S18: 3 | T18: 1 | AD18: 3 | AE18: 1 | AI18: =SUM(D18:AH18) -> 12
A19: Jin Xuan Nai Xiang | B19: 60 | C19: =B19*AI19 -> 1200 | D19: 1 | R19: 1 | S19: 1 | T19: 3 | U19: 1 | W19: 1 | X19: 1 | Y19: 1 | Z19: 1 | AA19: 1 | AB19: 1 | AC19: 1 | AD19: 1 | AE19: 3 | AF19: 1 | AH19: 1 | AI19: =SUM(D19:AH19) -> 20
A20: Anxi Jin Gu Huang Jin Gui | B20: 75 | C20: =B20*AI20 -> 1200 | H20: 1 | I20: 1 | K20: 1 | L20: 1 | M20: 1 | O20: 1 | P20: 1 | S20: 1 | U20: 2 | W20: 1 | Z20: 1 | AD20: 1 | AF20: 2 | AH20: 1 | AI20: =SUM(D20:AH20) -> 16
C21: =B21*AI21 -> 0 | AI21: =SUM(D21:AH21) -> 0
A22: Červené | C22: =B22*AI22 -> 0 | AI22: =SUM(D22:AH22) -> 0
A23: Wu Liang Hong Cha | B23: 80 | C23: =B23*AI23 -> 720 | G23: 1 | J23: 1 | K23: 1 | R23: 1 | AD23: 1 | AE23: 1 | AG23: 3 | AI23: =SUM(D23:AH23) -> 9
A24: Li Zhi Hong Cha | B24: 70 | C24: =B24*AI24 -> 630 | D24: 1 | O24: 1 | R24: 1 | S24: 1 | V24: 1 | Y24: 1 | Z24: 1 | AB24: 1 | AC24: 1 | AI24: =SUM(D24:AH24) -> 9
A25: Darjeeling Turzum SF | B25: 90 | C25: =B25*AI25 -> 720 | G25: 1 | H25: 1 | J25: 1 | K25: 1 | L25: 1 | AA25: 1 | AD25: 1 | AF25: 1 | AI25: =SUM(D25:AH25) -> 8
A26: Cejlon FBOPF Yalta | B26: 50 | C26: =B26*AI26 -> 350 | O26: 1 | P26: 1 | R26: 1 | S26: 1 | T26: 1 | W26: 1 | Z26: 1 | AI26: =SUM(D26:AH26) -> 7
C27: =B27*AI27 -> 0 | AI27: =SUM(D27:AH27) -> 0
A28: Rostlinné / Bylinné | C28: =B28*AI28 -> 0 | AI28: =SUM(D28:AH28) -> 0
A29: Mate Carnival | B29: 40 | C29: =B29*AI29 -> 360 | F29: 1 | I29: 1 | J29: 1 | N29: 1 | O29: 1 | U29: 1 | W29: 1 | AA29: 1 | AF29: 1 | AI29: =SUM(D29:AH29) -> 9
A30: Yerba Mate | B30: 60 | C30: =B30*AI30 -> 300 | R30: 1 | U30: 1 | V30: 1 | Y30: 1 | AE30: 1 | AI30: =SUM(D30:AH30) -> 5
A31: Honey Bush | B31: 50 | C31: =B31*AI31 -> 350 | F31: 1 | G31: 1 | I31: 1 | J31: 1 | K31: 1 | AB31: 1 | AC31: 1 | AI31: =SUM(D31:AH31) -> 7
A32: Rooibos red | B32: 45 | C32: =B32*AI32 -> 405 | I32: 1 | J32: 1 | R32: 1 | S32: 1 | U32: 1 | V32: 1 | W32: 1 | Y32: 1 | AG32: 1 | AI32: =SUM(D32:AH32) -> 9
C33: =B33*AI33 -> 0 | AI33: =SUM(D33:AH33) -> 0
A34: Ovocné | C34: =B34*AI34 -> 0 | AI34: =SUM(D34:AH34) -> 0
A35: Sun da Capo | B35: 60 | C35: =B35*AI35 -> 420 | E35: 1 | H35: 1 | I35: 1 | Q35: 1 | W35: 1 | Z35: 1 | AF35: 1 | AI35: =SUM(D35:AH35) -> 7
A36: Apple/Ginger | B36: 50 | C36: =B36*AI36 -> 250 | L36: 1 | N36: 1 | Q36: 1 | R36: 1 | U36: 1 | AI36: =SUM(D36:AH36) -> 5
A37: Chvíle u krbu | B37: 50 | C37: =B37*AI37 -> 300 | E37: 1 | F37: 1 | H37: 1 | I37: 1 | J37: 1 | AB37: 1 | AI37: =SUM(D37:AH37) -> 6
A38: Havajský koktejl | B38: 50 | C38: =B38*AI38 -> 300 | N38: 1 | O38: 1 | Q38: 1 | R38: 1 | S38: 1 | AF38: 1 | AI38: =SUM(D38:AH38) -> 6
C39: =B39*AI39 -> 0 | AI39: =SUM(D39:AH39) -> 0
A40: Nečaje | C40: =B40*AI40 -> 0 | AI40: =SUM(D40:AH40) -> 0
A41: Yogi | B41: 80 | C41: =B41*AI41 -> 800 | F41: 1 | I41: 1 | J41: 1 | M41: 1 | P41: 1 | S41: 1 | T41: 1 | W41: 1 | Y41: 1 | AC41: 1 | AI41: =SUM(D41:AH41) -> 10
...

Sheet Listopad
A2: Čaje | B2: Cena | C2: Výdělek | D2: 40848 | E2: 40849 | F2: 40850 | G2: 40851 | H2: 40852 | I2: 40853 | J2: 40854 | K2: 40855 | L2: 40856 | M2: 40857 | N2: 40858 | O2: 40859 | P2: 40860 | Q2: 40861 | R2: 40862 | S2: 40863 | T2: 40864 | U2: 40865 | V2: 40866 | W2: 40867 | X2: 40868 | Y2: 40869 | Z2: 40870 | AA2: 40871 | AB2: 40872 | AC2: 40873 | AD2: 40874 | AE2: 40875 | AF2: 40876 | AG2: 40877 | AI2: Celkem
A3: Zelené
A4: Zhe Jiang Shi Feng Long Jing | B4: 65 | C4: =B4*AI4 -> 390 | D4: 1 | K4: 1 | S4: 1 | V4: 1 | Z4: 2 | AI4: =SUM(D4:AH4) -> 6
A5: 2011 Hai Nan Bai Sha Lu | B5: 50 | C5: =B5*AI5 -> 650 | H5: 1 | L5: 2 | M5: 1 | N5: 1 | P5: 1 | T5: 2 | W5: 2 | AB5: 1 | AF5: 2 | AI5: =SUM(D5:AH5) -> 13
A6: Kukicha Nunosawa | B6: 105 | C6: =B6*AI6 -> 420 | F6: 1 | O6: 1 | Z6: 1 | AA6: 1 | AI6: =SUM(D6:AH6) -> 4
A7: Gyokuro | B7: 150 | C7: =B7*AI7 -> 1950 | E7: 1 | J7: 1 | K7: 1 | M7: 1 | R7: 1 | S7: 1 | U7: 1 | V7: 1 | X7: 1 | Y7: 1 | AD7: 1 | AE7: 1 | AG7: 1 | AI7: =SUM(D7:AH7) -> 13
A8: Moli Tai Mu long Zhu | B8: 75 | C8: =B8*AI8 -> 375 | L8: 1 | T8: 1 | W8: 1 | Z8: 1 | AF8: 1 | AI8: =SUM(D8:AH8) -> 5
A9: Moli Qian Re Hong (TeaArt) | B9: 45 | C9: =B9*AI9 -> 315 | H9: 1 | K9: 1 | P9: 1 | S9: 1 | V9: 1 | AB9: 1 | AE9: 1 | AI9: =SUM(D9:AH9) -> 7
C10: =B10*AI10 -> 0 | AI10: =SUM(D10:AH10) -> 0
A11: Bílé | C11: =B11*AI11 -> 0 | AI11: =SUM(D11:AH11) -> 0
A12: Fu Ding Bai Mu Dan | B12: 60 | C12: =B12*AI12 -> 840 | D12: 1 | M12: 1 | P12: 1 | Q12: 1 | S12: 1 | T12: 1 | V12: 1 | W12: 1 | Y12: 1 | Z12: 1 | AB12: 1 | AC12: 1 | AF12: 1 | AG12: 1 | AI12: =SUM(D12:AH12) -> 14
A13: Bai Hao Yin Zhen | B13: 85 | C13: =B13*AI13 -> 1700 | J13: 1 | K13: 1 | N13: 1 | Q13: 1 | R13: 1 | T13: 1 | U13: 1 | X13: 1 | Z13: 1 | AA13: 1 | AC13: 8 | AD13: 1 | AG13: 1 | AI13: =SUM(D13:AH13) -> 20
C14: =B14*AI14 -> 0 | AI14: =SUM(D14:AH14) -> 0
A15: Oolongy | C15: =B15*AI15 -> 0 | AI15: =SUM(D15:AH15) -> 0
A16: Tie Guan Yin Traditional | B16: 70 | C16: =B16*AI16 -> 910 | H16: 1 | I16: 1 | K16: 1 | L16: 1 | M16: 1 | O16: 1 | P16: 1 | R16: 1 | S16: 1 | V16: 1 | W16: 1 | Y16: 1 | Z16: 1 | AI16: =SUM(D16:AH16) -> 13
A17: Wu Yi Shui Hsien Traditional | B17: 80 | C17: =B17*AI17 -> 880 | F17: 1 | J17: 1 | N17: 1 | P17: 1 | Q17: 1 | T17: 1 | W17: 1 | X17: 1 | AA17: 1 | AB17: 1 | AC17: 1 | AI17: =SUM(D17:AH17) -> 11
A18: Mi Lan Dan Cong Oolong | B18: 65 | C18: =B18*AI18 -> 1170 | H18: 1 | K18: 1 | L18: 1 | O18: 1 | Q18: 3 | S18: 1 | U18: 1 | V18: 1 | X18: 3 | Z18: 1 | AC18: 3 | AE18: 1 | AI18: =SUM(D18:AH18) -> 18
A19: Jin Xuan Nai Xiang | B19: 60 | C19: =B19*AI19 -> 1500 | D19: 1 | P19: 2 | R19: 5 | T19: 1 | W19: 2 | Y19: 5 | AA19: 1 | AB19: 2 | AD19: 5 | AG19: 1 | AI19: =SUM(D19:AH19) -> 25
A20: Anxi Jin Gu Huang Jin Gui | B20: 75 | C20: =B20*AI20 -> 975 | H20: 1 | I20: 1 | K20: 1 | L20: 1 | M20: 1 | O20: 1 | P20: 1 | R20: 1 | S20: 1 | V20: 1 | W20: 1 | Y20: 1 | Z20: 1 | AI20: =SUM(D20:AH20) -> 13
C21: =B21*AI21 -> 0 | AI21: =SUM(D21:AH21) -> 0
A22: Červené | C22: =B22*AI22 -> 0 | AI22: =SUM(D22:AH22) -> 0
A23: Wu Liang Hong Cha | B23: 80 | C23: =B23*AI23 -> 880 | J23: 1 | O23: 1 | P23: 1 | R23: 1 | V23: 1 | W23: 1 | AD23: 1 | AE23: 1 | AG23: 3 | AI23: =SUM(D23:AH23) -> 11
A24: Li Zhi Hong Cha | B24: 70 | C24: =B24*AI24 -> 840 | D24: 1 | P24: 3 | T24: 1 | W24: 3 | Y24: 1 | Z24: 1 | AB24: 1 | AC24: 1 | AI24: =SUM(D24:AH24) -> 12
A25: Darjeeling Turzum SF | B25: 90 | C25: =B25*AI25 -> 1710 | G25: 1 | O25: 2 | Q25: 5 | R25: 1 | V25: 2 | X25: 5 | AA25: 1 | AD25: 1 | AF25: 1 | AI25: =SUM(D25:AH25) -> 19
A26: Cejlon FBOPF Yalta | B26: 50 | C26: =B26*AI26 -> 200 | N26: 1 | Q26: 1 | W26: 1 | Z26: 1 | AI26: =SUM(D26:AH26) -> 4
C27: =B27*AI27 -> 0 | AI27: =SUM(D27:AH27) -> 0
A28: Rostlinné / Bylinné | C28: =B28*AI28 -> 0 | AI28: =SUM(D28:AH28) -> 0
A29: Mate Carnival | B29: 40 | C29: =B29*AI29 -> 240 | N29: 1 | O29: 1 | U29: 1 | W29: 1 | AA29: 1 | AF29: 1 | AI29: =SUM(D29:AH29) -> 6
A30: Yerba Mate | B30: 60 | C30: =B30*AI30 -> 600 | H30: 1 | K30: 1 | L30: 1 | O30: 1 | P30: 1 | R30: 1 | S30: 1 | X30: 1 | Y30: 1 | AE30: 1 | AI30: =SUM(D30:AH30) -> 10
A31: Honey Bush | B31: 50 | C31: =B31*AI31 -> 500 | E31: 1 | L31: 1 | P31: 3 | Y31: 3 | AB31: 1 | AC31: 1 | AI31: =SUM(D31:AH31) -> 10
A32: Rooibos red | B32: 45 | C32: =B32*AI32 -> 765 | I32: 1 | J32: 1 | O32: 2 | Q32: 5 | X32: 2 | Z32: 5 | AG32: 1 | AI32: =SUM(D32:AH32) -> 17
C33: =B33*AI33 -> 0 | AI33: =SUM(D33:AH33) -> 0
A34: Ovocné | C34: =B34*AI34 -> 0 | AI34: =SUM(D34:AH34) -> 0
A35: Sun da Capo | B35: 60 | C35: =B35*AI35 -> 540 | M35: 1 | N35: 1 | Q35: 1 | T35: 1 | U35: 1 | W35: 1 | Y35: 1 | Z35: 1 | AF35: 1 | AI35: =SUM(D35:AH35) -> 9
A36: Apple/Ginger | B36: 50 | C36: =B36*AI36 -> 600 | D36: 1 | L36: 1 | N36: 3 | P36: 1 | U36: 3 | Z36: 3 | AI36: =SUM(D36:AH36) -> 12
A37: Chvíle u krbu | B37: 50 | C37: =B37*AI37 -> 1300 | H37: 1 | M37: 2 | O37: 5 | P37: 3 | T37: 2 | V37: 5 | Y37: 2 | AA37: 5 | AB37: 1 | AI37: =SUM(D37:AH37) -> 26
A38: Havajský koktejl | B38: 50 | C38: =B38*AI38 -> 400 | O38: 2 | Q38: 5 | AF38: 1 | AI38: =SUM(D38:AH38) -> 8
C39: =B39*AI39 -> 0 | AI39: =SUM(D39:AH39) -> 0
A40: Nečaje | C40: =B40*AI40 -> 0 | AI40: =SUM(D40:AH40) -> 0
A41: Yogi | B41: 80 | C41: =B41*AI41 -> 960 | E41: 1 | F41: 1 | L41: 1 | M41: 1 | P41: 1 | Q41: 1 | T41: 2 | W41: 1 | Y41: 1 | AA41: 1 | AB41: 1 | AI41: =SUM(D41:AH41) -> 12
...

Sheet Prosinec
A2: Čaje | B2: Cena | C2: Výdělek | D2: 40878 | E2: 40879 | F2: 40880 | G2: 40881 | H2: 40882 | I2: 40883 | J2: 40884 | K2: 40885 | L2: 40886 | M2: 40887 | N2: 40888 | O2: 40889 | P2: 40890 | Q2: 40891 | R2: 40892 | S2: 40893 | T2: 40894 | U2: 40895 | V2: 40896 | W2: 40897 | X2: 40898 | Y2: 40899 | Z2: 40900 | AA2: 40901 | AB2: 40902 | AC2: 40903 | AD2: 40904 | AE2: 40905 | AF2: 40906 | AG2: 40907 | AH2: 40908 | AI2: Celkem
A3: Zelené
A4: Zhe Jiang Shi Feng Long Jing | B4: 65 | C4: =B4*AI4 -> 390 | D4: 1 | K4: 1 | S4: 1 | V4: 1 | Z4: 2 | AI4: =SUM(D4:AH4) -> 6
A5: 2011 Hai Nan Bai Sha Lu | B5: 50 | C5: =B5*AI5 -> 750 | H5: 1 | L5: 2 | M5: 1 | N5: 1 | P5: 1 | Q5: 1 | R5: 1 | T5: 2 | W5: 2 | AB5: 1 | AF5: 2 | AI5: =SUM(D5:AH5) -> 15
A6: Kukicha Nunosawa | B6: 105 | C6: =B6*AI6 -> 420 | F6: 1 | O6: 1 | Z6: 1 | AA6: 1 | AI6: =SUM(D6:AH6) -> 4
A7: Gyokuro | B7: 150 | C7: =B7*AI7 -> 2250 | E7: 1 | J7: 1 | K7: 1 | M7: 1 | P7: 1 | Q7: 1 | S7: 1 | U7: 1 | V7: 1 | X7: 1 | Y7: 1 | AD7: 1 | AE7: 1 | AG7: 1 | AH7: 1 | AI7: =SUM(D7:AH7) -> 15
A8: Moli Tai Mu long Zhu | B8: 75 | C8: =B8*AI8 -> 600 | H8: 1 | I8: 1 | K8: 1 | L8: 1 | T8: 1 | W8: 1 | Z8: 1 | AF8: 1 | AI8: =SUM(D8:AH8) -> 8
A9: Moli Qian Re Hong (TeaArt) | B9: 45 | C9: =B9*AI9 -> 450 | J9: 1 | M9: 1 | N9: 1 | P9: 1 | Q9: 1 | R9: 1 | S9: 1 | V9: 1 | AB9: 1 | AE9: 1 | AI9: =SUM(D9:AH9) -> 10
C10: =B10*AI10 -> 0 | AI10: =SUM(D10:AH10) -> 0
A11: Bílé | C11: =B11*AI11 -> 0 | AI11: =SUM(D11:AH11) -> 0
A12: Fu Ding Bai Mu Dan | B12: 60 | C12: =B12*AI12 -> 900 | D12: 1 | H12: 1 | I12: 1 | K12: 1 | L12: 1 | M12: 1 | P12: 1 | S12: 1 | V12: 4 | W12: 1 | Z12: 1 | AC12: 1 | AI12: =SUM(D12:AH12) -> 15
A13: Bai Hao Yin Zhen | B13: 85 | C13: =B13*AI13 -> 935 | J13: 1 | K13: 1 | N13: 1 | Q13: 1 | R13: 1 | T13: 1 | U13: 1 | X13: 1 | AA13: 1 | AB13: 1 | AD13: 1 | AI13: =SUM(D13:AH13) -> 11
C14: =B14*AI14 -> 0 | AI14: =SUM(D14:AH14) -> 0
A15: Oolongy | C15: =B15*AI15 -> 0 | AI15: =SUM(D15:AH15) -> 0
A16: Tie Guan Yin Traditional | B16: 70 | C16: =B16*AI16 -> 840 | H16: 1 | I16: 1 | K16: 1 | L16: 1 | M16: 1 | N16: 1 | Q16: 1 | R16: 1 | V16: 1 | W16: 1 | Y16: 1 | Z16: 1 | AI16: =SUM(D16:AH16) -> 12
A17: Wu Yi Shui Hsien Traditional | B17: 80 | C17: =B17*AI17 -> 480 | F17: 1 | J17: 1 | T17: 1 | X17: 1 | AA17: 1 | AD17: 1 | AI17: =SUM(D17:AH17) -> 6
A18: Mi Lan Dan Cong Oolong | B18: 65 | C18: =B18*AI18 -> 975 | H18: 1 | K18: 1 | L18: 1 | N18: 1 | O18: 1 | Q18: 1 | R18: 1 | S18: 1 | U18: 1 | V18: 1 | Y18: 1 | Z18: 1 | AB18: 1 | AC18: 1 | AE18: 1 | AI18: =SUM(D18:AH18) -> 15
A19: Jin Xuan Nai Xiang | B19: 60 | C19: =B19*AI19 -> 300 | D19: 1 | T19: 1 | AA19: 1 | AD19: 1 | AG19: 1 | AI19: =SUM(D19:AH19) -> 5
A20: Anxi Jin Gu Huang Jin Gui | B20: 75 | C20: =B20*AI20 -> 975 | H20: 1 | I20: 1 | K20: 1 | L20: 1 | M20: 1 | O20: 1 | P20: 1 | R20: 1 | S20: 1 | V20: 1 | W20: 1 | Y20: 1 | Z20: 1 | AI20: =SUM(D20:AH20) -> 13
C21: =B21*AI21 -> 0 | AI21: =SUM(D21:AH21) -> 0
A22: Červené | C22: =B22*AI22 -> 0 | AI22: =SUM(D22:AH22) -> 0
A23: Wu Liang Hong Cha | B23: 80 | C23: =B23*AI23 -> 1280 | E23: 1 | F23: 1 | H23: 1 | I23: 1 | J23: 1 | L23: 1 | M23: 1 | O23: 1 | P23: 1 | Q23: 1 | R23: 1 | AD23: 1 | AE23: 1 | AG23: 3 | AI23: =SUM(D23:AH23) -> 16
A24: Li Zhi Hong Cha | B24: 70 | C24: =B24*AI24 -> 630 | D24: 1 | G24: 1 | N24: 1 | T24: 1 | V24: 1 | Y24: 1 | Z24: 1 | AB24: 1 | AC24: 1 | AI24: =SUM(D24:AH24) -> 9
A25: Darjeeling Turzum SF | B25: 90 | C25: =B25*AI25 -> 900 | E25: 1 | H25: 1 | I25: 1 | L25: 1 | O25: 1 | P25: 1 | R25: 1 | AA25: 1 | AD25: 1 | AF25: 1 | AI25: =SUM(D25:AH25) -> 10
A26: Cejlon FBOPF Yalta | B26: 50 | C26: =B26*AI26 -> 100 | W26: 1 | Z26: 1 | AI26: =SUM(D26:AH26) -> 2
C27: =B27*AI27 -> 0 | AI27: =SUM(D27:AH27) -> 0
A28: Rostlinné / Bylinné | C28: =B28*AI28 -> 0 | AI28: =SUM(D28:AH28) -> 0
A29: Mate Carnival | B29: 40 | C29: =B29*AI29 -> 360 | K29: 1 | L29: 1 | N29: 1 | O29: 1 | P29: 1 | U29: 1 | W29: 1 | AA29: 1 | AF29: 1 | AI29: =SUM(D29:AH29) -> 9
A30: Yerba Mate | B30: 60 | C30: =B30*AI30 -> 360 | H30: 1 | M30: 1 | R30: 1 | S30: 1 | Y30: 1 | AE30: 1 | AI30: =SUM(D30:AH30) -> 6
A31: Honey Bush | B31: 50 | C31: =B31*AI31 -> 300 | E31: 1 | K31: 1 | N31: 1 | O31: 1 | AB31: 1 | AC31: 1 | AI31: =SUM(D31:AH31) -> 6
A32: Rooibos red | B32: 45 | C32: =B32*AI32 -> 180 | I32: 1 | J32: 1 | Y32: 1 | AG32: 1 | AI32: =SUM(D32:AH32) -> 4
C33: =B33*AI33 -> 0 | AI33: =SUM(D33:AH33) -> 0
A34: Ovocné | C34: =B34*AI34 -> 0 | AI34: =SUM(D34:AH34) -> 0
A35: Sun da Capo | B35: 60 | C35: =B35*AI35 -> 300 | J35: 1 | Q35: 1 | W35: 1 | Z35: 1 | AF35: 1 | AI35: =SUM(D35:AH35) -> 5
A36: Apple/Ginger | B36: 50 | C36: =B36*AI36 -> 400 | D36: 1 | H36: 1 | K36: 1 | L36: 1 | N36: 1 | O36: 1 | T36: 1 | U36: 1 | AI36: =SUM(D36:AH36) -> 8
A37: Chvíle u krbu | B37: 50 | C37: =B37*AI37 -> 50 | AB37: 1 | AI37: =SUM(D37:AH37) -> 1
A38: Havajský koktejl | B38: 50 | C38: =B38*AI38 -> 300 | H38: 1 | I38: 1 | K38: 1 | L38: 1 | M38: 1 | AF38: 1 | AI38: =SUM(D38:AH38) -> 6
C39: =B39*AI39 -> 0 | AI39: =SUM(D39:AH39) -> 0
A40: Nečaje | C40: =B40*AI40 -> 0 | AI40: =SUM(D40:AH40) -> 0
A41: Yogi | B41: 80 | C41: =B41*AI41 -> 800 | I41: 1 | M41: 1 | Q41: 3 | T41: 2 | W41: 1 | Y41: 1 | AC41: 1 | AI41: =SUM(D41:AH41) -> 10
...
