Workbook

Sheet List1
A17: Anotace: Materiál slouží k procvičování formátování tabulek - různé druhy čar u ohraničení, vybarvení buněk, formátování písma, funkce sloučení u nadpisu. Žák se také učí estetickému cítění.
A21: Zadání pro žáky:
A22: Na Listu2 jsou vypsána data, ohraničením vytvoř tabulku, použij dva typy čar, barevně odliš záhlaví tabulky od ostatních údajů. Dle vlastního uvážení naformátuj písmo, zvýrazni co ja potřeba a uprav nadpis, který bude součástí tabulky, ale ve sloučených buňkách. číselné údaje zarovnej na střed. Vytvoř dvě různé varianty tabulek a List2 přejmenuj na "Ohraničení".

Sheet List2
A1: PŘEHLED VÝŠKY A HMOTNOSTI ŽÁKŮ
A2: Poř. číslo | B2: Jméno | C2: Přijmení | D2: Výška v cm | E2: Hmotnost v kg
A3: 1. | B3: Petra | C3: Šťastná | D3: 150 | E3: 48
A4: 2 | B4: Eliška | C4: Malá | D4: 168 | E4: 60
A5: 3 | B5: Tomáš | C5: Šilhavý | D5: 172 | E5: 89
A6: 4 | B6: Ema | C6: Nováková | D6: 161 | E6: 55
A7: 5 | B7: Jan | C7: Studený | D7: 189 | E7: 82
A8: 6 | B8: Roman | C8: Matásek | D8: 175 | E8: 74
A9: 7 | B9: Kateřina | C9: Krásná | D9: 180 | E9: 71
A10: 8 | B10: Viktor | C10: Slaný | D10: 195 | E10: 90
A11: 9 | B11: Martin | C11: Zlámal | D11: 181 | E11: 76
A12: 10 | B12: Táňa | C12: Pilná | D12: 148 | E12: 45
A15: =A1 -> PŘEHLED VÝŠKY A HMOTNOSTI ŽÁKŮ
A16: =A2 -> Poř. číslo | B16: =B2 -> Jméno | C16: =C2 -> Přijmení | D16: =D2 -> Výška v cm | E16: =E2 -> Hmotnost v kg
A17: =A3 -> 1. | B17: =B3 -> Petra | C17: =C3 -> Šťastná | D17: =D3 -> 150 | E17: =E3 -> 48
A18: =A4 -> 2 | B18: =B4 -> Eliška | C18: =C4 -> Malá | D18: =D4 -> 168 | E18: =E4 -> 60
A19: =A5 -> 3 | B19: =B5 -> Tomáš | C19: =C5 -> Šilhavý | D19: =D5 -> 172 | E19: =E5 -> 89
A20: =A6 -> 4 | B20: =B6 -> Ema | C20: =C6 -> Nováková | D20: =D6 -> 161 | E20: =E6 -> 55
A21: =A7 -> 5 | B21: =B7 -> Jan | C21: =C7 -> Studený | D21: =D7 -> 189 | E21: =E7 -> 82
A22: =A8 -> 6 | B22: =B8 -> Roman | C22: =C8 -> Matásek | D22: =D8 -> 175 | E22: =E8 -> 74
A23: =A9 -> 7 | B23: =B9 -> Kateřina | C23: =C9 -> Krásná | D23: =D9 -> 180 | E23: =E9 -> 71
A24: =A10 -> 8 | B24: =B10 -> Viktor | C24: =C10 -> Slaný | D24: =D10 -> 195 | E24: =E10 -> 90
A25: =A11 -> 9 | B25: =B11 -> Martin | C25: =C11 -> Zlámal | D25: =D11 -> 181 | E25: =E11 -> 76
A26: =A12 -> 10 | B26: =B12 -> Táňa | C26: =C12 -> Pilná | D26: =D12 -> 148 | E26: =E12 -> 45

Sheet Řešení
A1: Příklad řešení:
A3: =List2!A1 -> PŘEHLED VÝŠKY A HMOTNOSTI ŽÁKŮ
A4: =List2!A2 -> Poř. číslo | B4: =List2!B2 -> Jméno | C4: =List2!C2 -> Přijmení | D4: =List2!D2 -> Výška v cm | E4: =List2!E2 -> Hmotnost v kg
A5: =List2!A3 -> 1. | B5: =List2!B3 -> Petra | C5: =List2!C3 -> Šťastná | D5: =List2!D3 -> 150 | E5: =List2!E3 -> 48
A6: =List2!A4 -> 2 | B6: =List2!B4 -> Eliška | C6: =List2!C4 -> Malá | D6: =List2!D4 -> 168 | E6: =List2!E4 -> 60
A7: =List2!A5 -> 3 | B7: =List2!B5 -> Tomáš | C7: =List2!C5 -> Šilhavý | D7: =List2!D5 -> 172 | E7: =List2!E5 -> 89
A8: =List2!A6 -> 4 | B8: =List2!B6 -> Ema | C8: Nováková | D8: =List2!D6 -> 161 | E8: =List2!E6 -> 55
A9: =List2!A7 -> 5 | B9: =List2!B7 -> Jan | C9: =List2!C7 -> Studený | D9: =List2!D7 -> 189 | E9: =List2!E7 -> 82
A10: =List2!A8 -> 6 | B10: =List2!B8 -> Roman | C10: =List2!C8 -> Matásek | D10: =List2!D8 -> 175 | E10: =List2!E8 -> 74
A11: =List2!A9 -> 7 | B11: =List2!B9 -> Kateřina | C11: =List2!C9 -> Krásná | D11: =List2!D9 -> 180 | E11: =List2!E9 -> 71
A12: =List2!A10 -> 8 | B12: =List2!B10 -> Viktor | C12: =List2!C10 -> Slaný | D12: =List2!D10 -> 195 | E12: =List2!E10 -> 90
A13: =List2!A11 -> 9 | B13: =List2!B11 -> Martin | C13: =List2!C11 -> Zlámal | D13: =List2!D11 -> 181 | E13: =List2!E11 -> 76
A14: =List2!A12 -> 10 | B14: =List2!B12 -> Táňa | C14: =List2!C12 -> Pilná | D14: =List2!D12 -> 148 | E14: =List2!E12 -> 45
