Workbook

Sheet EU
A9: Název školy | B9: ZÁKLADNÍ ŠKOLA, JIČÍN, HUSOVA 170
A10: Číslo projektu | B10: CZ.1.07/1.4.00/21.2862
A11: Číslo a název klíčové aktivity | B11: 3.2 Inovace a zkvalitnění výuky prostřednictvím ICT
A13: Název DUM: | C13: VY_32_INOVACE_VI_1_07_převody_jednotek_délky
A14: Šablona číslo: | B14: VI | D14: Sada číslo: | E14: 1 | G14: Pořadové číslo DUM: | I14: 7
A15: Autor: | D15: Mgr. Zdeněk Charousek
A16: Anotace: | D16: Žáci si připomenou a procvičí převody jednotek délky.
A19: Očekávaný výstup: | D19: Žáci dovedou převádět jednotky délky.
A21: Druh učebního materiálu: | D21: Prezentace nebo pracovní list
A22: Typická věková skupina: | D22: 6. třída
A23: Klíčová slova: | D23: Převody jednotek délky, procvičování.
A24: Pomůcky a materiál: | D24: interaktivní tabule
A25: Potřebný čas pro výuku DUM: | D25: 25 minut
A26: Metodické zhodnocení a popis práce s digitálním učebním materiálem:
A28: 1. Učitel může pomocí klávesy F9 obměňovat zadané příklady a v následujícím listu kontrolovat výsledky. 2. Varianta: list - zadani použít jako pracovní list a zásobu příkladů. (na listu - vzorce je možnost nastavení rozsahu čísel)
A43: Přílohy:

Sheet pripomenuti
B1: Převody jednotek délky
A2: na připomenutí:
B5: km | E5: m | F5: dm | G5: cm | H5: mm
B10: 1m = 10dm = 100cm = 1000mm
B12: 1km = 1000m

Sheet zadani
B1: Převody jednotek délky
B3: 1. SKUPINA | I3: 2.SKUPINA
A4: 1 | B4: =vzorce!E11 -> 52 | C4: =vzorce!F11 -> m | D4: =vzorce!I11 -> [dm] | E4: = | H4: 1 | I4: =vzorce!O11 -> 87 | J4: =vzorce!P11 -> m | K4: =vzorce!S11 -> [cm] | L4: =
A5: 2 | B5: =vzorce!E12 -> 4.8 | C5: =vzorce!F12 -> dm | D5: =vzorce!I12 -> [mm] | E5: = | H5: 2 | I5: =vzorce!O12 -> 34 | J5: =vzorce!P12 -> cm | K5: =vzorce!S12 -> [mm] | L5: =
A6: 3 | B6: =vzorce!E13 -> 0.49 | C6: =vzorce!F13 -> dm | D6: =vzorce!I13 -> [cm] | E6: = | H6: 3 | I6: =vzorce!O13 -> 55 | J6: =vzorce!P13 -> mm | K6: =vzorce!S13 -> [cm] | L6: =
A7: 4 | B7: =vzorce!E14 -> 8800 | C7: =vzorce!F14 -> m | D7: =vzorce!I14 -> [mm] | E7: = | H7: 4 | I7: =vzorce!O14 -> 1.6 | J7: =vzorce!P14 -> km | K7: =vzorce!S14 -> [m] | L7: =
A8: 5 | B8: =vzorce!E15 -> 0.42 | C8: =vzorce!F15 -> km | D8: =vzorce!I15 -> [dm] | E8: = | H8: 5 | I8: =vzorce!O15 -> 0.18 | J8: =vzorce!P15 -> km | K8: =vzorce!S15 -> [mm] | L8: =
A9: 6 | B9: =vzorce!E16 -> 1300 | C9: =vzorce!F16 -> km | D9: =vzorce!I16 -> [m] | E9: = | H9: 6 | I9: =vzorce!O16 -> 76 | J9: =vzorce!P16 -> cm | K9: =vzorce!S16 -> [m] | L9: =
A10: 7 | B10: =vzorce!E17 -> 4 | C10: =vzorce!F17 -> mm | D10: =vzorce!I17 -> [m] | E10: = | H10: 7 | I10: =vzorce!O17 -> 1700 | J10: =vzorce!P17 -> cm | K10: =vzorce!S17 -> [m] | L10: =
A11: 8 | B11: =vzorce!E18 -> 93 | C11: =vzorce!F18 -> km | D11: =vzorce!I18 -> [dm] | E11: = | H11: 8 | I11: =vzorce!O18 -> 6.6 | J11: =vzorce!P18 -> dm | K11: =vzorce!S18 -> [mm] | L11: =
A12: 9 | B12: =vzorce!E19 -> 9 | C12: =vzorce!F19 -> km | D12: =vzorce!I19 -> [m] | E12: = | H12: 9 | I12: =vzorce!O19 -> 6400 | J12: =vzorce!P19 -> km | K12: =vzorce!S19 -> [m] | L12: =
A13: 10 | B13: =vzorce!E20 -> 0.6 | C13: =vzorce!F20 -> km | D13: =vzorce!I20 -> [m] | E13: = | H13: 10 | I13: =vzorce!O20 -> 15 | J13: =vzorce!P20 -> dm | K13: =vzorce!S20 -> [m] | L13: =
A14: 11 | B14: =vzorce!E21 -> 120 | C14: =vzorce!F21 -> dm | D14: =vzorce!I21 -> [cm] | E14: = | H14: 11 | I14: =vzorce!O21 -> 79 | J14: =vzorce!P21 -> mm | K14: =vzorce!S21 -> [cm] | L14: =
A15: 12 | B15: =vzorce!E22 -> 82 | C15: =vzorce!F22 -> km | D15: =vzorce!I22 -> [m] | E15: = | H15: 12 | I15: =vzorce!O22 -> 980 | J15: =vzorce!P22 -> m | K15: =vzorce!S22 -> [dm] | L15: =
... A18: 15 | B18: =vzorce!E25 -> 7800 | C18: =vzorce!F25 -> cm | D18: =vzorce!I25 -> [mm] | E18: = | H18: 15 | I18: =vzorce!O25 -> 72 | J18: =vzorce!P25 -> cm | K18: =vzorce!S25 -> [mm] | L18: =

Sheet vysledky
B1: Převody jednotek délky
B3: 1. SKUPINA | I3: 2.SKUPINA
A4: 1 | B4: =vzorce!E11 -> 52 | C4: =vzorce!F11 -> m | D4: = | E4: =vzorce!H11 -> 520 | F4: =vzorce!I11 -> [dm] | H4: 1 | I4: =vzorce!O11 -> 87 | J4: =vzorce!P11 -> m | K4: = | L4: =vzorce!R11 -> 8700 | M4: =vzorce!S11 -> [cm]
A5: 2 | B5: =vzorce!E12 -> 4.8 | C5: =vzorce!F12 -> dm | D5: = | E5: =vzorce!H12 -> 480 | F5: =vzorce!I12 -> [mm] | H5: 2 | I5: =vzorce!O12 -> 34 | J5: =vzorce!P12 -> cm | K5: = | L5: =vzorce!R12 -> 340 | M5: =vzorce!S12 -> [mm]
A6: 3 | B6: =vzorce!E13 -> 0.49 | C6: =vzorce!F13 -> dm | D6: = | E6: =vzorce!H13 -> 4.9 | F6: =vzorce!I13 -> [cm] | H6: 3 | I6: =vzorce!O13 -> 55 | J6: =vzorce!P13 -> mm | K6: = | L6: =vzorce!R13 -> 5.5 | M6: =vzorce!S13 -> [cm]
A7: 4 | B7: =vzorce!E14 -> 8800 | C7: =vzorce!F14 -> m | D7: = | E7: =vzorce!H14 -> 8800000 | F7: =vzorce!I14 -> [mm] | H7: 4 | I7: =vzorce!O14 -> 1.6 | J7: =vzorce!P14 -> km | K7: = | L7: =vzorce!R14 -> 1600 | M7: =vzorce!S14 -> [m]
A8: 5 | B8: =vzorce!E15 -> 0.42 | C8: =vzorce!F15 -> km | D8: = | E8: =vzorce!H15 -> 4200 | F8: =vzorce!I15 -> [dm] | H8: 5 | I8: =vzorce!O15 -> 0.18 | J8: =vzorce!P15 -> km | K8: = | L8: =vzorce!R15 -> 180000 | M8: =vzorce!S15 -> [mm]
A9: 6 | B9: =vzorce!E16 -> 1300 | C9: =vzorce!F16 -> km | D9: = | E9: =vzorce!H16 -> 1300000 | F9: =vzorce!I16 -> [m] | H9: 6 | I9: =vzorce!O16 -> 76 | J9: =vzorce!P16 -> cm | K9: = | L9: =vzorce!R16 -> 0.76 | M9: =vzorce!S16 -> [m]
A10: 7 | B10: =vzorce!E17 -> 4 | C10: =vzorce!F17 -> mm | D10: = | E10: =vzorce!H17 -> 0.004 | F10: =vzorce!I17 -> [m] | H10: 7 | I10: =vzorce!O17 -> 1700 | J10: =vzorce!P17 -> cm | K10: = | L10: =vzorce!R17 -> 17 | M10: =vzorce!S17 -> [m]
A11: 8 | B11: =vzorce!E18 -> 93 | C11: =vzorce!F18 -> km | D11: = | E11: =vzorce!H18 -> 930000 | F11: =vzorce!I18 -> [dm] | H11: 8 | I11: =vzorce!O18 -> 6.6 | J11: =vzorce!P18 -> dm | K11: = | L11: =vzorce!R18 -> 660 | M11: =vzorce!S18 -> [mm]
A12: 9 | B12: =vzorce!E19 -> 9 | C12: =vzorce!F19 -> km | D12: = | E12: =vzorce!H19 -> 9000 | F12: =vzorce!I19 -> [m] | H12: 9 | I12: =vzorce!O19 -> 6400 | J12: =vzorce!P19 -> km | K12: = | L12: =vzorce!R19 -> 6400000 | M12: =vzorce!S19 -> [m]
A13: 10 | B13: =vzorce!E20 -> 0.6 | C13: =vzorce!F20 -> km | D13: = | E13: =vzorce!H20 -> 600 | F13: =vzorce!I20 -> [m] | H13: 10 | I13: =vzorce!O20 -> 15 | J13: =vzorce!P20 -> dm | K13: = | L13: =vzorce!R20 -> 1.5 | M13: =vzorce!S20 -> [m]
A14: 11 | B14: =vzorce!E21 -> 120 | C14: =vzorce!F21 -> dm | D14: = | E14: =vzorce!H21 -> 1200 | F14: =vzorce!I21 -> [cm] | H14: 11 | I14: =vzorce!O21 -> 79 | J14: =vzorce!P21 -> mm | K14: = | L14: =vzorce!R21 -> 7.9 | M14: =vzorce!S21 -> [cm]
A15: 12 | B15: =vzorce!E22 -> 82 | C15: =vzorce!F22 -> km | D15: = | E15: =vzorce!H22 -> 82000 | F15: =vzorce!I22 -> [m] | H15: 12 | I15: =vzorce!O22 -> 980 | J15: =vzorce!P22 -> m | K15: = | L15: =vzorce!R22 -> 9800 | M15: =vzorce!S22 -> [dm]
... A18: 15 | B18: =vzorce!E25 -> 7800 | C18: =vzorce!F25 -> cm | D18: = | E18: =vzorce!H25 -> 78000 | F18: =vzorce!I25 -> [mm] | H18: 15 | I18: =vzorce!O25 -> 72 | J18: =vzorce!P25 -> cm | K18: = | L18: =vzorce!R25 -> 720 | M18: =vzorce!S25 -> [mm]

Sheet vzorce
A2: jednotky | B2: hodnota | H2: hodnoty v zadání:
A3: km | B3: 1 | H3: počet cifer: | I3: 2
A4: m | B4: 1000 | H4: počet nul: | I4: 2
A5: dm | B5: 10000 | H5: des.mist: | I5: 2
A6: cm | B6: 100000
A7: mm | B7: 1000000
A8: m | B8: 1000
A10: př | B10: koef.1 | C10: koef.0 | D10: koef.2 | E10: zadní | H10: výsledek | K10: př | L10: koef.1 | M10: koef.0 | N10: koef.2 | O10: zadní | R10: výsledek
A11: 1 | B11: =RANDBETWEEN(1,5) -> 2 | C11: =RANDBETWEEN(1,5) -> 3 | D11: =IF(B11=C11,C11+1,C11) -> 3 | E11: =RANDBETWEEN(1,10^I$3)*10^RANDBETWEEN(-I$5,I$4) -> 52 | F11: =INDEX(A$3:A$8,B11) -> m | G11: = | H11: =E11*INDEX(B$3:B$8,D11)/INDEX(B$3:B$8,B11) -> 520 | I11: ="["&INDEX(A$3:A$8,D11)&"]" -> [dm] | K11: 1 | L11: =RANDBETWEEN(1,5) -> 2 | M11: =RANDBETWEEN(1,5) -> 4 | N11: =IF(L11=M11,M11+1,M11) -> 4 | O11: =RANDBETWEEN(1,10^I$3)*10^RANDBETWEEN(-I$5,I$4) -> 87 | P11: =INDEX(A$3:A$8,L11) -> m | Q11: = | R11: =O11*INDEX(B$3:B$8,N11)/INDEX(B$3:B$8,L11) -> 8700 | S11: ="["&INDEX(A$3:A$8,N11)&"]" -> [cm]
A12: 2 | B12: =RANDBETWEEN(1,5) -> 3 | C12: =RANDBETWEEN(1,5) -> 5 | D12: =IF(B12=C12,C12+1,C12) -> 5 | E12: =RANDBETWEEN(1,10^I$3)*10^RANDBETWEEN(-I$5,I$4) -> 4.8 | F12: =INDEX(A$3:A$8,B12) -> dm | G12: = | H12: =E12*INDEX(B$3:B$8,D12)/INDEX(B$3:B$8,B12) -> 480 | I12: ="["&INDEX(A$3:A$8,D12)&"]" -> [mm] | K12: 2 | L12: =RANDBETWEEN(1,5) -> 4 | M12: =RANDBETWEEN(1,5) -> 5 | N12: =IF(L12=M12,M12+1,M12) -> 5 | O12: =RANDBETWEEN(1,10^I$3)*10^RANDBETWEEN(-I$5,I$4) -> 34 | P12: =INDEX(A$3:A$8,L12) -> cm | Q12: = | R12: =O12*INDEX(B$3:B$8,N12)/INDEX(B$3:B$8,L12) -> 340 | S12: ="["&INDEX(A$3:A$8,N12)&"]" -> [mm]
A13: 3 | B13: =RANDBETWEEN(1,5) -> 3 | C13: =RANDBETWEEN(1,5) -> 3 | D13: =IF(B13=C13,C13+1,C13) -> 4 | E13: =RANDBETWEEN(1,10^I$3)*10^RANDBETWEEN(-I$5,I$4) -> 0.49 | F13: =INDEX(A$3:A$8,B13) -> dm | G13: = | H13: =E13*INDEX(B$3:B$8,D13)/INDEX(B$3:B$8,B13) -> 4.9 | I13: ="["&INDEX(A$3:A$8,D13)&"]" -> [cm] | K13: 3 | L13: =RANDBETWEEN(1,5) -> 5 | M13: =RANDBETWEEN(1,5) -> 4 | N13: =IF(L13=M13,M13+1,M13) -> 4 | O13: =RANDBETWEEN(1,10^I$3)*10^RANDBETWEEN(-I$5,I$4) -> 55 | P13: =INDEX(A$3:A$8,L13) -> mm | Q13: = | R13: =O13*INDEX(B$3:B$8,N13)/INDEX(B$3:B$8,L13) -> 5.5 | S13: ="["&INDEX(A$3:A$8,N13)&"]" -> [cm]
A14: 4 | B14: =RANDBETWEEN(1,5) -> 2 | C14: =RANDBETWEEN(1,5) -> 5 | D14: =IF(B14=C14,C14+1,C14) -> 5 | E14: =RANDBETWEEN(1,10^I$3)*10^RANDBETWEEN(-I$5,I$4) -> 8800 | F14: =INDEX(A$3:A$8,B14) -> m | G14: = | H14: =E14*INDEX(B$3:B$8,D14)/INDEX(B$3:B$8,B14) -> 8800000 | I14: ="["&INDEX(A$3:A$8,D14)&"]" -> [mm] | K14: 4 | L14: =RANDBETWEEN(1,5) -> 1 | M14: =RANDBETWEEN(1,5) -> 1 | N14: =IF(L14=M14,M14+1,M14) -> 2 | O14: =RANDBETWEEN(1,10^I$3)*10^RANDBETWEEN(-I$5,I$4) -> 1.6 | P14: =INDEX(A$3:A$8,L14) -> km | Q14: = | R14: =O14*INDEX(B$3:B$8,N14)/INDEX(B$3:B$8,L14) -> 1600 | S14: ="["&INDEX(A$3:A$8,N14)&"]" -> [m]
A15: 5 | B15: =RANDBETWEEN(1,5) -> 1 | C15: =RANDBETWEEN(1,5) -> 3 | D15: =IF(B15=C15,C15+1,C15) -> 3 | E15: =RANDBETWEEN(1,10^I$3)*10^RANDBETWEEN(-I$5,I$4) -> 0.42 | F15: =INDEX(A$3:A$8,B15) -> km | G15: = | H15: =E15*INDEX(B$3:B$8,D15)/INDEX(B$3:B$8,B15) -> 4200 | I15: ="["&INDEX(A$3:A$8,D15)&"]" -> [dm] | K15: 5 | L15: =RANDBETWEEN(1,5) -> 1 | M15: =RANDBETWEEN(1,5) -> 5 | N15: =IF(L15=M15,M15+1,M15) -> 5 | O15: =RANDBETWEEN(1,10^I$3)*10^RANDBETWEEN(-I$5,I$4) -> 0.18 | P15: =INDEX(A$3:A$8,L15) -> km | Q15: = | R15: =O15*INDEX(B$3:B$8,N15)/INDEX(B$3:B$8,L15) -> 180000 | S15: ="["&INDEX(A$3:A$8,N15)&"]" -> [mm]
A16: 6 | B16: =RANDBETWEEN(1,5) -> 1 | C16: =RANDBETWEEN(1,5) -> 1 | D16: =IF(B16=C16,C16+1,C16) -> 2 | E16: =RANDBETWEEN(1,10^I$3)*10^RANDBETWEEN(-I$5,I$4) -> 1300 | F16: =INDEX(A$3:A$8,B16) -> km | G16: = | H16: =E16*INDEX(B$3:B$8,D16)/INDEX(B$3:B$8,B16) -> 1300000 | I16: ="["&INDEX(A$3:A$8,D16)&"]" -> [m] | K16: 6 | L16: =RANDBETWEEN(1,5) -> 4 | M16: =RANDBETWEEN(1,5) -> 2 | N16: =IF(L16=M16,M16+1,M16) -> 2 | O16: =RANDBETWEEN(1,10^I$3)*10^RANDBETWEEN(-I$5,I$4) -> 76 | P16: =INDEX(A$3:A$8,L16) -> cm | Q16: = | R16: =O16*INDEX(B$3:B$8,N16)/INDEX(B$3:B$8,L16) -> 0.76 | S16: ="["&INDEX(A$3:A$8,N16)&"]" -> [m]
A17: 7 | B17: =RANDBETWEEN(1,5) -> 5 | C17: =RANDBETWEEN(1,5) -> 2 | D17: =IF(B17=C17,C17+1,C17) -> 2 | E17: =RANDBETWEEN(1,10^I$3)*10^RANDBETWEEN(-I$5,I$4) -> 4 | F17: =INDEX(A$3:A$8,B17) -> mm | G17: = | H17: =E17*INDEX(B$3:B$8,D17)/INDEX(B$3:B$8,B17) -> 0.004 | I17: ="["&INDEX(A$3:A$8,D17)&"]" -> [m] | K17: 7 | L17: =RANDBETWEEN(1,5) -> 4 | M17: =RANDBETWEEN(1,5) -> 2 | N17: =IF(L17=M17,M17+1,M17) -> 2 | O17: =RANDBETWEEN(1,10^I$3)*10^RANDBETWEEN(-I$5,I$4) -> 1700 | P17: =INDEX(A$3:A$8,L17) -> cm | Q17: = | R17: =O17*INDEX(B$3:B$8,N17)/INDEX(B$3:B$8,L17) -> 17 | S17: ="["&INDEX(A$3:A$8,N17)&"]" -> [m]
A18: 8 | B18: =RANDBETWEEN(1,5) -> 1 | C18: =RANDBETWEEN(1,5) -> 3 | D18: =IF(B18=C18,C18+1,C18) -> 3 | E18: =RANDBETWEEN(1,10^I$3)*10^RANDBETWEEN(-I$5,I$4) -> 93 | F18: =INDEX(A$3:A$8,B18) -> km | G18: = | H18: =E18*INDEX(B$3:B$8,D18)/INDEX(B$3:B$8,B18) -> 930000 | I18: ="["&INDEX(A$3:A$8,D18)&"]" -> [dm] | K18: 8 | L18: =RANDBETWEEN(1,5) -> 3 | M18: =RANDBETWEEN(1,5) -> 5 | N18: =IF(L18=M18,M18+1,M18) -> 5 | O18: =RANDBETWEEN(1,10^I$3)*10^RANDBETWEEN(-I$5,I$4) -> 6.6 | P18: =INDEX(A$3:A$8,L18) -> dm | Q18: = | R18: =O18*INDEX(B$3:B$8,N18)/INDEX(B$3:B$8,L18) -> 660 | S18: ="["&INDEX(A$3:A$8,N18)&"]" -> [mm]
A19: 9 | B19: =RANDBETWEEN(1,5) -> 1 | C19: =RANDBETWEEN(1,5) -> 1 | D19: =IF(B19=C19,C19+1,C19) -> 2 | E19: =RANDBETWEEN(1,10^I$3)*10^RANDBETWEEN(-I$5,I$4) -> 9 | F19: =INDEX(A$3:A$8,B19) -> km | G19: = | H19: =E19*INDEX(B$3:B$8,D19)/INDEX(B$3:B$8,B19) -> 9000 | I19: ="["&INDEX(A$3:A$8,D19)&"]" -> [m] | K19: 9 | L19: =RANDBETWEEN(1,5) -> 1 | M19: =RANDBETWEEN(1,5) -> 2 | N19: =IF(L19=M19,M19+1,M19) -> 2 | O19: =RANDBETWEEN(1,10^I$3)*10^RANDBETWEEN(-I$5,I$4) -> 6400 | P19: =INDEX(A$3:A$8,L19) -> km | Q19: = | R19: =O19*INDEX(B$3:B$8,N19)/INDEX(B$3:B$8,L19) -> 6400000 | S19: ="["&INDEX(A$3:A$8,N19)&"]" -> [m]
A20: 10 | B20: =RANDBETWEEN(1,5) -> 1 | C20: =RANDBETWEEN(1,5) -> 1 | D20: =IF(B20=C20,C20+1,C20) -> 2 | E20: =RANDBETWEEN(1,10^I$3)*10^RANDBETWEEN(-I$5,I$4) -> 0.6 | F20: =INDEX(A$3:A$8,B20) -> km | G20: = | H20: =E20*INDEX(B$3:B$8,D20)/INDEX(B$3:B$8,B20) -> 600 | I20: ="["&INDEX(A$3:A$8,D20)&"]" -> [m] | K20: 10 | L20: =RANDBETWEEN(1,5) -> 3 | M20: =RANDBETWEEN(1,5) -> 2 | N20: =IF(L20=M20,M20+1,M20) -> 2 | O20: =RANDBETWEEN(1,10^I$3)*10^RANDBETWEEN(-I$5,I$4) -> 15 | P20: =INDEX(A$3:A$8,L20) -> dm | Q20: = | R20: =O20*INDEX(B$3:B$8,N20)/INDEX(B$3:B$8,L20) -> 1.5 | S20: ="["&INDEX(A$3:A$8,N20)&"]" -> [m]
A21: 11 | B21: =RANDBETWEEN(1,5) -> 3 | C21: =RANDBETWEEN(1,5) -> 4 | D21: =IF(B21=C21,C21+1,C21) -> 4 | E21: =RANDBETWEEN(1,10^I$3)*10^RANDBETWEEN(-I$5,I$4) -> 120 | F21: =INDEX(A$3:A$8,B21) -> dm | G21: = | H21: =E21*INDEX(B$3:B$8,D21)/INDEX(B$3:B$8,B21) -> 1200 | I21: ="["&INDEX(A$3:A$8,D21)&"]" -> [cm] | K21: 11 | L21: =RANDBETWEEN(1,5) -> 5 | M21: =RANDBETWEEN(1,5) -> 4 | N21: =IF(L21=M21,M21+1,M21) -> 4 | O21: =RANDBETWEEN(1,10^I$3)*10^RANDBETWEEN(-I$5,I$4) -> 79 | P21: =INDEX(A$3:A$8,L21) -> mm | Q21: = | R21: =O21*INDEX(B$3:B$8,N21)/INDEX(B$3:B$8,L21) -> 7.9 | S21: ="["&INDEX(A$3:A$8,N21)&"]" -> [cm]
A22: 12 | B22: =RANDBETWEEN(1,5) -> 1 | C22: =RANDBETWEEN(1,5) -> 2 | D22: =IF(B22=C22,C22+1,C22) -> 2 | E22: =RANDBETWEEN(1,10^I$3)*10^RANDBETWEEN(-I$5,I$4) -> 82 | F22: =INDEX(A$3:A$8,B22) -> km | G22: = | H22: =E22*INDEX(B$3:B$8,D22)/INDEX(B$3:B$8,B22) -> 82000 | I22: ="["&INDEX(A$3:A$8,D22)&"]" -> [m] | K22: 12 | L22: =RANDBETWEEN(1,5) -> 2 | M22: =RANDBETWEEN(1,5) -> 3 | N22: =IF(L22=M22,M22+1,M22) -> 3 | O22: =RANDBETWEEN(1,10^I$3)*10^RANDBETWEEN(-I$5,I$4) -> 980 | P22: =INDEX(A$3:A$8,L22) -> m | Q22: = | R22: =O22*INDEX(B$3:B$8,N22)/INDEX(B$3:B$8,L22) -> 9800 | S22: ="["&INDEX(A$3:A$8,N22)&"]" -> [dm]
... A25: 15 | B25: =RANDBETWEEN(1,5) -> 4 | C25: =RANDBETWEEN(1,5) -> 5 | D25: =IF(B25=C25,C25+1,C25) -> 5 | E25: =RANDBETWEEN(1,10^I$3)*10^RANDBETWEEN(-I$5,I$4) -> 7800 | F25: =INDEX(A$3:A$8,B25) -> cm | G25: = | H25: =E25*INDEX(B$3:B$8,D25)/INDEX(B$3:B$8,B25) -> 78000 | I25: ="["&INDEX(A$3:A$8,D25)&"]" -> [mm] | K25: 15 | L25: =RANDBETWEEN(1,5) -> 4 | M25: =RANDBETWEEN(1,5) -> 5 | N25: =IF(L25=M25,M25+1,M25) -> 5 | O25: =RANDBETWEEN(1,10^I$3)*10^RANDBETWEEN(-I$5,I$4) -> 72 | P25: =INDEX(A$3:A$8,L25) -> cm | Q25: = | R25: =O25*INDEX(B$3:B$8,N25)/INDEX(B$3:B$8,L25) -> 720 | S25: ="["&INDEX(A$3:A$8,N25)&"]" -> [mm]
